BEGIN:VCALENDAR
VERSION:2.0
PRODID:-//OpenUK - ECPv6.15.20//NONSGML v1.0//EN
CALSCALE:GREGORIAN
METHOD:PUBLISH
X-ORIGINAL-URL:https://openuk.uk
X-WR-CALDESC:Events for OpenUK
REFRESH-INTERVAL;VALUE=DURATION:PT1H
X-Robots-Tag:noindex
X-PUBLISHED-TTL:PT1H
BEGIN:VTIMEZONE
TZID:UTC
BEGIN:STANDARD
TZOFFSETFROM:+0000
TZOFFSETTO:+0000
TZNAME:UTC
DTSTART:20250101T000000
END:STANDARD
END:VTIMEZONE
BEGIN:VEVENT
DTSTART;VALUE=DATE:20260615
DTEND;VALUE=DATE:20260622
DTSTAMP:20260419T182039
CREATED:20260417T104104Z
LAST-MODIFIED:20260417T104104Z
UID:78140-1781481600-1782086399@openuk.uk
SUMMARY:BBF 2026
DESCRIPTION:June 15-21 || In-person || Berlin \nw3.hub\, Möckernstrasse 120\, 10963 Berlin (next to Gleisdreieckpark)
URL:https://openuk.uk/event-calendar/bbf-2026/
CATEGORIES:Events of Interest
ATTACH;FMTTYPE=image/webp:https://openuk.uk/wp-content/uploads/2026/04/BBF-2026.webp
END:VEVENT
BEGIN:VEVENT
DTSTART;VALUE=DATE:20260616
DTEND;VALUE=DATE:20260618
DTSTAMP:20260419T182039
CREATED:20260114T163910Z
LAST-MODIFIED:20260114T163931Z
UID:75797-1781568000-1781740799@openuk.uk
SUMMARY:Open Source Summit India 2026
DESCRIPTION:Open Source Summit India \nDate: 16th – 17th June || Mode: In-person || Location: Mumbai\, India \n 
URL:https://openuk.uk/event-calendar/open-source-summit-india-2026/
CATEGORIES:Events of Interest
ATTACH;FMTTYPE=image/png:https://openuk.uk/wp-content/uploads/2026/01/Screenshot-2026-01-14-at-16.37.47.png
END:VEVENT
BEGIN:VEVENT
DTSTART;VALUE=DATE:20260617
DTEND;VALUE=DATE:20260621
DTSTAMP:20260419T182039
CREATED:20260115T154752Z
LAST-MODIFIED:20260115T154752Z
UID:75953-1781654400-1781999999@openuk.uk
SUMMARY:Viva Technology 2026
DESCRIPTION:Viva Technology \n17-20 June\, Paris\, France
URL:https://openuk.uk/event-calendar/vivatechnology2026/
CATEGORIES:Events of Interest
ATTACH;FMTTYPE=image/svg+xml:https://openuk.uk/wp-content/uploads/2026/01/logo-vivatechnology.svg
END:VEVENT
END:VCALENDAR