BEGIN:VCALENDAR
VERSION:2.0
PRODID:-//OpenUK - ECPv6.15.20//NONSGML v1.0//EN
CALSCALE:GREGORIAN
METHOD:PUBLISH
X-WR-CALNAME:OpenUK
X-ORIGINAL-URL:https://openuk.uk
X-WR-CALDESC:Events for OpenUK
REFRESH-INTERVAL;VALUE=DURATION:PT1H
X-Robots-Tag:noindex
X-PUBLISHED-TTL:PT1H
BEGIN:VTIMEZONE
TZID:UTC
BEGIN:STANDARD
TZOFFSETFROM:+0000
TZOFFSETTO:+0000
TZNAME:UTC
DTSTART:20250101T000000
END:STANDARD
END:VTIMEZONE
BEGIN:VEVENT
DTSTART;VALUE=DATE:20260707
DTEND;VALUE=DATE:20260710
DTSTAMP:20260419T200129
CREATED:20260115T154959Z
LAST-MODIFIED:20260115T154959Z
UID:75977-1783382400-1783641599@openuk.uk
SUMMARY:AI for Good Summit 2026
DESCRIPTION:AI for Good  \n7-9 July\, Geneva\, Switzerland 
URL:https://openuk.uk/event-calendar/ai-for-good-summit-2026/
CATEGORIES:Events of Interest
ATTACH;FMTTYPE=image/png:https://openuk.uk/wp-content/uploads/2026/01/Screenshot-2026-01-15-at-15.47.13-scaled.png
END:VEVENT
END:VCALENDAR