BEGIN:VCALENDAR
VERSION:2.0
PRODID:-//OpenUK - ECPv6.15.20//NONSGML v1.0//EN
CALSCALE:GREGORIAN
METHOD:PUBLISH
X-WR-CALNAME:OpenUK
X-ORIGINAL-URL:https://openuk.uk
X-WR-CALDESC:Events for OpenUK
REFRESH-INTERVAL;VALUE=DURATION:PT1H
X-Robots-Tag:noindex
X-PUBLISHED-TTL:PT1H
BEGIN:VTIMEZONE
TZID:UTC
BEGIN:STANDARD
TZOFFSETFROM:+0000
TZOFFSETTO:+0000
TZNAME:UTC
DTSTART:20250101T000000
END:STANDARD
END:VTIMEZONE
BEGIN:VEVENT
DTSTART;VALUE=DATE:20260801
DTEND;VALUE=DATE:20260807
DTSTAMP:20260419T213434
CREATED:20260115T150302Z
LAST-MODIFIED:20260115T150302Z
UID:71396-1785542400-1786060799@openuk.uk
SUMMARY:Black Hat USA 2026 
DESCRIPTION:Black Hat USA 2026  \nDare: August 1-6\, 2026\, Mandalay Bay Convention Center\, Las Vegas
URL:https://openuk.uk/event-calendar/blackhatusa2026/
CATEGORIES:Events of Interest
ATTACH;FMTTYPE=image/png:https://openuk.uk/wp-content/uploads/2026/01/Screenshot-2026-01-15-at-15.02.03.png
END:VEVENT
END:VCALENDAR