BEGIN:VCALENDAR
VERSION:2.0
PRODID:-//OpenUK - ECPv6.15.20//NONSGML v1.0//EN
CALSCALE:GREGORIAN
METHOD:PUBLISH
X-WR-CALNAME:OpenUK
X-ORIGINAL-URL:https://openuk.uk
X-WR-CALDESC:Events for OpenUK
REFRESH-INTERVAL;VALUE=DURATION:PT1H
X-Robots-Tag:noindex
X-PUBLISHED-TTL:PT1H
BEGIN:VTIMEZONE
TZID:UTC
BEGIN:STANDARD
TZOFFSETFROM:+0000
TZOFFSETTO:+0000
TZNAME:UTC
DTSTART:20250101T000000
END:STANDARD
END:VTIMEZONE
BEGIN:VEVENT
DTSTART;VALUE=DATE:20260917
DTEND;VALUE=DATE:20260918
DTSTAMP:20260419T231637
CREATED:20260317T171418Z
LAST-MODIFIED:20260317T171418Z
UID:77558-1789603200-1789689599@openuk.uk
SUMMARY:DevOpsDays London 2026
DESCRIPTION:September 17\, 2026 || In-person || London\nCity And Guilds Building\, Imperial College Road\, London SW7 2AZ
URL:https://openuk.uk/event-calendar/devopsdays-london-2026/
CATEGORIES:Events of Interest
ATTACH;FMTTYPE=image/jpeg:https://openuk.uk/wp-content/uploads/2026/03/DevOpsDays-London.jpeg
END:VEVENT
END:VCALENDAR