BEGIN:VCALENDAR
VERSION:2.0
PRODID:-//OpenUK - ECPv6.15.20//NONSGML v1.0//EN
CALSCALE:GREGORIAN
METHOD:PUBLISH
X-WR-CALNAME:OpenUK
X-ORIGINAL-URL:https://openuk.uk
X-WR-CALDESC:Events for OpenUK
REFRESH-INTERVAL;VALUE=DURATION:PT1H
X-Robots-Tag:noindex
X-PUBLISHED-TTL:PT1H
BEGIN:VTIMEZONE
TZID:UTC
BEGIN:STANDARD
TZOFFSETFROM:+0000
TZOFFSETTO:+0000
TZNAME:UTC
DTSTART:20250101T000000
END:STANDARD
END:VTIMEZONE
BEGIN:VEVENT
DTSTART;VALUE=DATE:20261007
DTEND;VALUE=DATE:20261010
DTSTAMP:20260420T005040
CREATED:20260115T152102Z
LAST-MODIFIED:20260115T152102Z
UID:75905-1791331200-1791590399@openuk.uk
SUMMARY:Open Source Summit Europe 2026
DESCRIPTION:Open Source Summit Europe \nDate: 7th – 9th October || Mode: In-person || Location: Prague\, Czechia
URL:https://openuk.uk/event-calendar/open-source-summit-europe-2026/
CATEGORIES:Events of Interest
ATTACH;FMTTYPE=image/png:https://openuk.uk/wp-content/uploads/2026/01/Screenshot-2026-01-15-at-15.08.37-scaled.png
END:VEVENT
END:VCALENDAR