BEGIN:VCALENDAR
VERSION:2.0
PRODID:-//OpenUK - ECPv6.15.20//NONSGML v1.0//EN
CALSCALE:GREGORIAN
METHOD:PUBLISH
X-WR-CALNAME:OpenUK
X-ORIGINAL-URL:https://openuk.uk
X-WR-CALDESC:Events for OpenUK
REFRESH-INTERVAL;VALUE=DURATION:PT1H
X-Robots-Tag:noindex
X-PUBLISHED-TTL:PT1H
BEGIN:VTIMEZONE
TZID:UTC
BEGIN:STANDARD
TZOFFSETFROM:+0000
TZOFFSETTO:+0000
TZNAME:UTC
DTSTART:20250101T000000
END:STANDARD
END:VTIMEZONE
BEGIN:VEVENT
DTSTART;VALUE=DATE:20261018
DTEND;VALUE=DATE:20261021
DTSTAMP:20260420T005041
CREATED:20260115T152159Z
LAST-MODIFIED:20260115T152159Z
UID:75914-1792281600-1792540799@openuk.uk
SUMMARY:All Things Open 2026
DESCRIPTION:All Things Open \nDate: 18th – 20th October || Mode: In-person || Location: Raleigh\, North Carolina\, USA
URL:https://openuk.uk/event-calendar/all-things-open-2026/
CATEGORIES:Events of Interest
ATTACH;FMTTYPE=image/jpeg:https://openuk.uk/wp-content/uploads/2026/01/2026_ATO_SaveTheDate_Social.jpg
END:VEVENT
END:VCALENDAR