BEGIN:VCALENDAR
VERSION:2.0
PRODID:-//OpenUK - ECPv6.15.20//NONSGML v1.0//EN
CALSCALE:GREGORIAN
METHOD:PUBLISH
X-ORIGINAL-URL:https://openuk.uk
X-WR-CALDESC:Events for OpenUK
REFRESH-INTERVAL;VALUE=DURATION:PT1H
X-Robots-Tag:noindex
X-PUBLISHED-TTL:PT1H
BEGIN:VTIMEZONE
TZID:UTC
BEGIN:STANDARD
TZOFFSETFROM:+0000
TZOFFSETTO:+0000
TZNAME:UTC
DTSTART:20200101T000000
END:STANDARD
END:VTIMEZONE
BEGIN:VTIMEZONE
TZID:Europe/Paris
BEGIN:DAYLIGHT
TZOFFSETFROM:+0100
TZOFFSETTO:+0200
TZNAME:CEST
DTSTART:20200329T010000
END:DAYLIGHT
BEGIN:STANDARD
TZOFFSETFROM:+0200
TZOFFSETTO:+0100
TZNAME:CET
DTSTART:20201025T010000
END:STANDARD
BEGIN:DAYLIGHT
TZOFFSETFROM:+0100
TZOFFSETTO:+0200
TZNAME:CEST
DTSTART:20210328T010000
END:DAYLIGHT
BEGIN:STANDARD
TZOFFSETFROM:+0200
TZOFFSETTO:+0100
TZNAME:CET
DTSTART:20211031T010000
END:STANDARD
BEGIN:DAYLIGHT
TZOFFSETFROM:+0100
TZOFFSETTO:+0200
TZNAME:CEST
DTSTART:20220327T010000
END:DAYLIGHT
BEGIN:STANDARD
TZOFFSETFROM:+0200
TZOFFSETTO:+0100
TZNAME:CET
DTSTART:20221030T010000
END:STANDARD
END:VTIMEZONE
BEGIN:VEVENT
DTSTART;VALUE=DATE:20210929
DTEND;VALUE=DATE:20211002
DTSTAMP:20260423T030945
CREATED:20210308T191656Z
LAST-MODIFIED:20210308T191656Z
UID:14228-1632873600-1633132799@openuk.uk
SUMMARY:OSPOCon
DESCRIPTION:Introducing OSPOCon. \nThis event is designed for those working in open source program offices in organizations that rely on open source technologies to learn & share best practices\, experiences & tooling to overcome challenges.  Presenting by The Linux Foundation and TODO Group\, and being held with Open Source Summit + Embedded Linux Conference 2021\, join us at OSPOCon to learn and share best practices and experiences to help create better\, more efficient open source ecosystems. \nRegistration will open in Spring 2021 – sign up to be notified here: https://bit.ly/2ZGCXQa. \nCall for Proposals is now open – learn more here: https://bit.ly/2ZJmRVV.
URL:https://openuk.uk/event-calendar/ospocon/
CATEGORIES:Events of Interest
ATTACH;FMTTYPE=image/png:https://openuk.uk/wp-content/uploads/2021/03/OSPOCon_21_Snackable_800x400_v1.png
END:VEVENT
BEGIN:VEVENT
DTSTART;VALUE=DATE:20210928
DTEND;VALUE=DATE:20211002
DTSTAMP:20260423T030945
CREATED:20210204T104755Z
LAST-MODIFIED:20210830T215929Z
UID:12881-1632787200-1633132799@openuk.uk
SUMMARY:Linux Foundation European Summit 2021
DESCRIPTION:
URL:https://openuk.uk/event-calendar/linux-foundation-european-summit-2021/
LOCATION:Hyatt Regency Seattle\, 808 Howell St\, Seattle\, WA\, WA 98101\, United States
CATEGORIES:Events of Interest
ATTACH;FMTTYPE=image/png:https://openuk.uk/wp-content/uploads/2021/02/Screenshot-2021-02-04-at-10.43.5.png
END:VEVENT
BEGIN:VEVENT
DTSTART;TZID=Europe/Paris:20210902T180000
DTEND;TZID=Europe/Paris:20210902T190000
DTSTAMP:20260423T030945
CREATED:20210820T100656Z
LAST-MODIFIED:20210820T100656Z
UID:17645-1630605600-1630609200@openuk.uk
SUMMARY:Data Sharing for Data Science
DESCRIPTION:Combining data in surprising ways is a powerful technique in data science. For example\, weather data combined with the right economic indicators can improve retail demand forecasting\, but weather data combined with socio-economic indicators is also being used to prevent insect-borne disease. Whatever the data combination you’re looking for\, data sharing is often a key step\, and this can bring its own surprising challenges. Data sharing is not just a matter of getting permission. It also requires discovering who has the data you need\, how to access it\, how to deal with mismatches between different data sets and much more. \nPlease join us as our panelists share stories from their different experiences to dig into the technical and organizational challenges of data sharing and what you can do about them. We’ll also discuss new data initiatives including European-based Gaia-X and Linux Foundation’s Agstack among others. \nData scientists\, data engineers\, CDOs\, CTOs\, CIOs and data architects all should find this event useful. \n*FOR FULL SPEAKER BIOS PLEASE VISIT MEETUP \nSPEAKERS:\nEllen Friedman – Principal Technologist\, Hewlett Packard Enterprise + frmr committer Apache Software projects [MODERATOR]\nTed Dunning – CTO\, Data Fabric\, Hewlett Packard Enterprise + frmr CTO at MapR\nJoanna McKenzie – Principal Data Scientist\, The Data Lab – Innovation Centre\nSuparna Bhattacharya – Distinguished Technologist\, HPE AI Research
URL:https://openuk.uk/event-calendar/data-sharing-for-data-science/
CATEGORIES:Events of Interest
ATTACH;FMTTYPE=image/png:https://openuk.uk/wp-content/uploads/2021/08/Event-The-HIVE.png
END:VEVENT
BEGIN:VEVENT
DTSTART;VALUE=DATE:20210518
DTEND;VALUE=DATE:20210521
DTSTAMP:20260423T030945
CREATED:20210329T103528Z
LAST-MODIFIED:20210329T103528Z
UID:14619-1621296000-1621555199@openuk.uk
SUMMARY:SUSECON Digital 2021
DESCRIPTION:SUSECON Digital 2021 will deliver the outstanding technical content and interaction with open source experts that you expect from SUSECON – including Kubernetes expertise from Rancher for the first time! \nThe excitement starts Tuesday\, May 18 as SUSE’s CEO\, Melissa Di Donato takes center stage to discuss SUSE’s strategy and commitment to customer success. Her keynote will be followed by the Engineering and Innovation Keynote\, delivered by Sheng Liang\, President of Engineering & Innovation. Then explore the worlds of Linux\, Kubernetes and Edge innovation with SUSE in breakout sessions\, case studies\, demos and live conversations with open source experts. When you need a break\, we’ve got wellness sessions\, games and entertainment for you as well. Three days of access to the best minds in the industry… come for the content and stay for the experience!
URL:https://openuk.uk/event-calendar/susecon-digital-2021/
CATEGORIES:Events of Interest
ATTACH;FMTTYPE=image/jpeg:https://openuk.uk/wp-content/uploads/2021/03/Ew1K1SPWQA8DNP_.jpg
END:VEVENT
BEGIN:VEVENT
DTSTART;VALUE=DATE:20210512
DTEND;VALUE=DATE:20210514
DTSTAMP:20260423T030945
CREATED:20210427T124427Z
LAST-MODIFIED:20210427T124427Z
UID:15105-1620777600-1620950399@openuk.uk
SUMMARY:Percona Live ONLINE
DESCRIPTION:Percona Live is a community-focused event for database developers\, administrators\, and decision-makers to network with peers and technology professionals. Come learn from the best and brightest in the open source database community as they share their knowledge\, experience\, and use cases with you in small group sessions and tutorials. \nJoin our Ambassador and Percona VP Martin James from his kitchen for 160 hours of content from 120 different presenters!
URL:https://openuk.uk/event-calendar/percona-live-online/
CATEGORIES:Events of Interest
ATTACH;FMTTYPE=image/png:https://openuk.uk/wp-content/uploads/2021/04/Percona-Live-Online.png
END:VEVENT
BEGIN:VEVENT
DTSTART;VALUE=DATE:20210504
DTEND;VALUE=DATE:20210508
DTSTAMP:20260423T030945
CREATED:20210208T155741Z
LAST-MODIFIED:20210217T140921Z
UID:12980-1620086400-1620431999@openuk.uk
SUMMARY:KubeCon + CloudNativeCon Europe 2021
DESCRIPTION:The Cloud Native Computing Foundation’s flagship conference gathers adopters and technologists from leading open source and cloud native communities virtually from May 4 – 7\, 2021. Join containerd\, CoreDNS\, Envoy\, etcd\, Fluentd\, Harbor\, Helm\, Jaeger\, Kubernetes\, Open Policy Agent\, Prometheus\, Rook\, TiKV\, TUF\, Vitess\, Argo\, Buildpacks\, CloudEvents\, CNI\, Contour\, Cortex\, CRI-O\, Dragonfly\, Falco\, gRPC\, KubeEdge\, KubeVirt\, Linkerd\, NATS\, Notary\, OpenTracing\, Operator Framework\, SPIFFE\, SPIRE\, and Thanos as the community gathers for four days to further the education and advancement of cloud native computing.
URL:https://openuk.uk/event-calendar/kubecon-cloudnativecon-europe-2021/
CATEGORIES:Events of Interest
ATTACH;FMTTYPE=image/jpeg:https://openuk.uk/wp-content/uploads/2021/02/BBEEFD2F-9950-4A36-ACB6-D6F83E253B32_4_5005_c.jpeg
END:VEVENT
BEGIN:VEVENT
DTSTART;VALUE=DATE:20210427
DTEND;VALUE=DATE:20210429
DTSTAMP:20260423T030945
CREATED:20210208T121506Z
LAST-MODIFIED:20210217T140825Z
UID:12944-1619481600-1619654399@openuk.uk
SUMMARY:Red Hat Summit 2021
DESCRIPTION:The Red Hat Summit is expanding to become an all-new\, flexible conference series\, consisting of a 2‑part immersive virtual experience as well as a global tour of small-scale\, in-person* events. This series will create collective opportunities to share experiences\, innovations\, and insights. \nRed Hat Summit® 2021 is where we come together to uplift perspectives in enterprise IT all around the world\, ensuring that every contribution has a place\, every person has a voice\, and every question has a meaning.
URL:https://openuk.uk/event-calendar/red-hat-summit-2021/
CATEGORIES:Events of Interest
ATTACH;FMTTYPE=image/png:https://openuk.uk/wp-content/uploads/2021/02/red-hat-summit-2020-social-open-.png
END:VEVENT
BEGIN:VEVENT
DTSTART;VALUE=DATE:20210412
DTEND;VALUE=DATE:20210417
DTSTAMP:20260423T030945
CREATED:20210315T154401Z
LAST-MODIFIED:20210315T154401Z
UID:14427-1618185600-1618617599@openuk.uk
SUMMARY:DrupalCon North America 2021
DESCRIPTION:DrupalCon unites experts from around the globe who create ambitious digital experiences. At DrupalCon North America 2021\, the people who create the digital experiences the world relies on every day—developers\, marketers\, agency leaders\, and business decision-makers—come together online to learn about the latest Drupal developments and contribute to the future of the open source platform.
URL:https://openuk.uk/event-calendar/drupalcon-north-america-2021/
CATEGORIES:Events of Interest
ATTACH;FMTTYPE=image/png:https://openuk.uk/wp-content/uploads/2021/03/DCNA2021_Horizontal.png
END:VEVENT
BEGIN:VEVENT
DTSTART;VALUE=DATE:20210330
DTEND;VALUE=DATE:20210331
DTSTAMP:20260423T030945
CREATED:20210223T191759Z
LAST-MODIFIED:20210303T142921Z
UID:13607-1617062400-1617148799@openuk.uk
SUMMARY:Open Source 101 Conference
DESCRIPTION:40 Open Source Sessions and Speakers\nAttend the 2021 Open Source 101 conference on Tuesday\, March 30 for a full day of open source programming! The event is FREE to attend and all content will be streamed LIVE and online – this is a 100% virtual one-day conference.
URL:https://openuk.uk/event-calendar/open-source-101-conference/
CATEGORIES:Events of Interest
ATTACH;FMTTYPE=image/jpeg:https://openuk.uk/wp-content/uploads/2021/02/E684864B-A2D9-4576-893A-BA4EDAC05525_4_5005_c.jpeg
END:VEVENT
BEGIN:VEVENT
DTSTART;TZID=UTC:20210304T100000
DTEND;TZID=UTC:20210304T120000
DTSTAMP:20260423T030945
CREATED:20210215T092507Z
LAST-MODIFIED:20210303T143205Z
UID:13292-1614852000-1614859200@openuk.uk
SUMMARY:Open for digital transformation - Red Hat Virtual Briefing
DESCRIPTION:In this morning briefing\, you’ll hear from our experts about the three fundamentals of an open digital transformation – technology\, process and culture. And how you can adopt these ‘open’ advantages to ensure your digital transformation is anything but generic. \nWHO SHOULD ATTEND: This event is for Board level\, senior executives and strategy leaders focussing on digital transformation\, technology and operations\, and culture
URL:https://openuk.uk/event-calendar/open-for-digital-transformation-red-hat-virtual-briefing/
CATEGORIES:Events of Interest
ATTACH;FMTTYPE=image/jpeg:https://openuk.uk/wp-content/uploads/2021/02/2B58BB91-E05D-4D96-9167-7F79B3776EE8_4_5005_c.jpeg
END:VEVENT
BEGIN:VEVENT
DTSTART;TZID=UTC:20210225T160000
DTEND;TZID=UTC:20210225T180000
DTSTAMP:20260423T030945
CREATED:20210223T190711Z
LAST-MODIFIED:20210223T190711Z
UID:13598-1614268800-1614276000@openuk.uk
SUMMARY:Open Source & Ireland’s Innovation Ecosystem
DESCRIPTION:Join Board member Phil Weir at 4:45 on a Panel Session speaking about Ireland’s Commercial Open Source Ecosystem.
URL:https://openuk.uk/event-calendar/open-source-irelands-innovation-ecosystem/
CATEGORIES:Events of Interest
ATTACH;FMTTYPE=image/jpeg:https://openuk.uk/wp-content/uploads/2021/02/FA607F22-2DFA-42C4-90F7-5A2BDD9DCD09_4_5005_c.jpeg
END:VEVENT
BEGIN:VEVENT
DTSTART;TZID=UTC:20210222T100000
DTEND;TZID=UTC:20210222T103000
DTSTAMP:20260423T030945
CREATED:20210217T155101Z
LAST-MODIFIED:20210217T155101Z
UID:13553-1613988000-1613989800@openuk.uk
SUMMARY:Lintol Coding Challenge
DESCRIPTION:Lintol are challenging you (as a team or individual) to design a processor to check unstructured data specifically. \nDifferent types of validation checks can be added to Lintol by building scripts called processors. For example\, a processor could be designed to check for personally identifiable information such as an address\, phone number\, date of birth\, or National Insurance Number. The possibilities for Lintol processors are endless. \nWhat programming language can you use?  \nAlthough Python will be the focus\, other programming languages are welcome. It will be easiest to get started in Python as we have the required tooling. All code needs to be licensed\, either MIT or Apache and publicly available by the time of submission. \nWhy enter? \n\n£1k prize fund (£500 for 1st place\, two runners up will get £250)\nSkill-up and enhance your coding capabilities. The Lintol team will be available to share their knowledge and support you with any questions you have\nShowcase your coding skills to our judges from leading government experts in Open Data\, and renowned Software Developers from the global Open Source community\nA handy team-building exercise (one that can be done remotely and safely during the Covid pandemic)\nOpportunities to connect and network online with the Lintol team and other competitors via the Lintol Coding Challenge’s Rocket Chat channel\nYour code could be incorporated into Lintol\, and ultimately help people around the globe access Open Data more efficiently.
URL:https://openuk.uk/event-calendar/lintol-coding-challenge/
CATEGORIES:Events of Interest
ATTACH;FMTTYPE=image/jpeg:https://openuk.uk/wp-content/uploads/2021/02/C7879606-6D1A-4590-B3E1-C6E51549A52D_4_5005_c.jpeg
END:VEVENT
END:VCALENDAR