BEGIN:VCALENDAR
VERSION:2.0
PRODID:-//OpenUK - ECPv6.15.20//NONSGML v1.0//EN
CALSCALE:GREGORIAN
METHOD:PUBLISH
X-WR-CALNAME:OpenUK
X-ORIGINAL-URL:https://openuk.uk
X-WR-CALDESC:Events for OpenUK
REFRESH-INTERVAL;VALUE=DURATION:PT1H
X-Robots-Tag:noindex
X-PUBLISHED-TTL:PT1H
BEGIN:VTIMEZONE
TZID:UTC
BEGIN:STANDARD
TZOFFSETFROM:+0000
TZOFFSETTO:+0000
TZNAME:UTC
DTSTART:20200101T000000
END:STANDARD
END:VTIMEZONE
BEGIN:VEVENT
DTSTART;VALUE=DATE:20210607
DTEND;VALUE=DATE:20210611
DTSTAMP:20260424T160610
CREATED:20210513T101300Z
LAST-MODIFIED:20210513T101300Z
UID:15593-1623024000-1623369599@openuk.uk
SUMMARY:WomenTech Global Conference 2021
DESCRIPTION:WomenTech Global Conference will feature a full week of live events hosted daily from June 7 – 11\, 2021 across various timezones including Americas\, GMT & APAC. WTGC will enable participants to create a powerful conference experience\, with inspiring keynotes\,  industry-specific summits\, sponsor info sessions\,  career growth expo\, workshops\, open space discussion groups\, contributions sprints\, 1:1 networking opportunities\, and interactive community content. \nJoin Amanda Brock on the 8th June at 9:10 speaking on The importance of global collaboration in a world of Brexit and Geo Political Shift.
URL:https://openuk.uk/event-calendar/womentech-global-conference-2021/
CATEGORIES:Events OpenUK will be at
ATTACH;FMTTYPE=image/jpeg:https://openuk.uk/wp-content/uploads/2021/05/Women-in-Tech-Conference-.jpeg
END:VEVENT
BEGIN:VEVENT
DTSTART;VALUE=DATE:20210609
DTEND;VALUE=DATE:20210610
DTSTAMP:20260424T160610
CREATED:20210609T080843Z
LAST-MODIFIED:20210705T081842Z
UID:16579-1623196800-1623283199@openuk.uk
SUMMARY:GAIA-X Summit Round 2: Use case update
DESCRIPTION:Join Amanda Brock for the GAIA-X Summit Round 2: Use case update webinar. You can watch the whole webinar using the link below.
URL:https://openuk.uk/event-calendar/gaia-x-summit-round-2-use-case-update/
CATEGORIES:Events OpenUK will be at
ATTACH;FMTTYPE=image/png:https://openuk.uk/wp-content/uploads/2020/11/gaia-x.png
END:VEVENT
BEGIN:VEVENT
DTSTART;VALUE=DATE:20210614
DTEND;VALUE=DATE:20210618
DTSTAMP:20260424T160610
CREATED:20210204T105721Z
LAST-MODIFIED:20210513T093916Z
UID:12893-1623628800-1623974399@openuk.uk
SUMMARY:Berlin Buzzwords 2021
DESCRIPTION:Berlin Buzzwords is back! And they cannot make any promises on the WHERE (virtual or onsite)\, they can tell you WHEN! \nJune 14 – 17\, 2021 \n\n\nJoin Amanda Brock where she will be speaking about Commercial Models in Open Source. \n\n\nAs soon as possible\, they will let you know more details on the location or in how far they will be able to make an onsite-event together with you. This is why for now\, there will only be conference passes for a virtual event available. \nAs part of our Belonging Network we are proud to promote access to Diversity tickets. Diversity Tickets are fully sponsored (i.e. free) tickets that are available to people from underrepresented groups within the Berlin Buzzwords community. This includes\, but is not limited to: women\, people of colour\, LGBTQIA people\, disabled people\, and people facing economic or social hardships. If you would like a diversity ticket\, please select it from the ticket shop on this page. If you have any questions about eligibility for Diversity tickets please feel free to email Max at info@berlinbuzzwords.de \n 
URL:https://openuk.uk/event-calendar/berlin-buzzwords-2021/
CATEGORIES:Events OpenUK will be at
ATTACH;FMTTYPE=image/png:https://openuk.uk/wp-content/uploads/2021/02/Screenshot-2021-02-04-at-10.55.3.png
END:VEVENT
BEGIN:VEVENT
DTSTART;VALUE=DATE:20210617
DTEND;VALUE=DATE:20210619
DTSTAMP:20260424T160610
CREATED:20210516T203139Z
LAST-MODIFIED:20210516T203220Z
UID:15647-1623888000-1624060799@openuk.uk
SUMMARY:Open Source Lisbon 2021
DESCRIPTION:Powered by Syone\, Open Source Lisbon is the biggest Open Source event in Portugal. \n​This year\, they will have a two-day online event to celebrate the Portuguese Presidency of the European Union and the Open Source software strategy outlined by the European Commission. \nThe 19th edition of Open Source Lisbon will be the perfect event to spread Europe’s vision as a leader in adopting open technologies\, share open source discussions with the community and to show how technology can improve citizens life quality. \nThe first day will be dedicated to the Public Sector and European Union subjects. On the second\, they will have their well-known event\, talking about the Open Source Mindset in a Shifting World. And you’re invited for both! Join Amanda Brock\, CEO and many other great speakers.
URL:https://openuk.uk/event-calendar/open-source-lisbon-2021/
CATEGORIES:Events OpenUK will be at
ATTACH;FMTTYPE=image/png:https://openuk.uk/wp-content/uploads/2021/05/Open-Source-Lisbon.png
END:VEVENT
END:VCALENDAR