BEGIN:VCALENDAR
VERSION:2.0
PRODID:-//OpenUK - ECPv6.15.20//NONSGML v1.0//EN
CALSCALE:GREGORIAN
METHOD:PUBLISH
X-WR-CALNAME:OpenUK
X-ORIGINAL-URL:https://openuk.uk
X-WR-CALDESC:Events for OpenUK
REFRESH-INTERVAL;VALUE=DURATION:PT1H
X-Robots-Tag:noindex
X-PUBLISHED-TTL:PT1H
BEGIN:VTIMEZONE
TZID:UTC
BEGIN:STANDARD
TZOFFSETFROM:+0000
TZOFFSETTO:+0000
TZNAME:UTC
DTSTART:20250101T000000
END:STANDARD
END:VTIMEZONE
BEGIN:VTIMEZONE
TZID:Asia/Kolkata
BEGIN:STANDARD
TZOFFSETFROM:+0530
TZOFFSETTO:+0530
TZNAME:IST
DTSTART:20250101T000000
END:STANDARD
END:VTIMEZONE
BEGIN:VEVENT
DTSTART;VALUE=DATE:20260211
DTEND;VALUE=DATE:20260212
DTSTAMP:20260420T201448
CREATED:20260113T114010Z
LAST-MODIFIED:20260119T153309Z
UID:75719-1770768000-1770854399@openuk.uk
SUMMARY:Container Days London
DESCRIPTION:11 February 2026\, Container Days London\, Keynote\, “Open Source powering the Digital Economy”\, London
URL:https://openuk.uk/event-calendar/container-days-london/
CATEGORIES:Events OpenUK will be at
ATTACH;FMTTYPE=image/jpeg:https://openuk.uk/wp-content/uploads/2026/01/open-source-powering-the-digital-economy_brock_1117689_banner.jpeg
END:VEVENT
BEGIN:VEVENT
DTSTART;TZID=Asia/Kolkata:20260219T080000
DTEND;TZID=Asia/Kolkata:20260220T170000
DTSTAMP:20260420T201448
CREATED:20251022T114844Z
LAST-MODIFIED:20251022T115047Z
UID:73574-1771488000-1771606800@openuk.uk
SUMMARY:India–AI Impact Summit 2026
DESCRIPTION:
URL:https://openuk.uk/event-calendar/indiaaiimpactsummit2026/
CATEGORIES:Events OpenUK will be at
ATTACH;FMTTYPE=image/png:https://openuk.uk/wp-content/uploads/2025/10/Screenshot-2025-10-22-at-10.37.56.png
END:VEVENT
BEGIN:VEVENT
DTSTART;VALUE=DATE:20260221
DTEND;VALUE=DATE:20260222
DTSTAMP:20260420T201448
CREATED:20260204T142004Z
LAST-MODIFIED:20260204T142037Z
UID:76349-1771632000-1771718399@openuk.uk
SUMMARY:KCD Delhi 2026
DESCRIPTION:21 Feb 2026 || Amanda Brock\, Keynote Panel “AI on Kubernetes: A Community Roundtable on What’s Working\, What’s Not” || In Person || New Delhi\, India
URL:https://openuk.uk/event-calendar/kcd-delhi-2026/
CATEGORIES:Events OpenUK will be at
ATTACH;FMTTYPE=image/png:https://openuk.uk/wp-content/uploads/2026/02/panel-discussion-4.png
END:VEVENT
END:VCALENDAR