BEGIN:VCALENDAR
VERSION:2.0
PRODID:-//OpenUK - ECPv6.15.20//NONSGML v1.0//EN
CALSCALE:GREGORIAN
METHOD:PUBLISH
X-ORIGINAL-URL:https://openuk.uk
X-WR-CALDESC:Events for OpenUK
REFRESH-INTERVAL;VALUE=DURATION:PT1H
X-Robots-Tag:noindex
X-PUBLISHED-TTL:PT1H
BEGIN:VTIMEZONE
TZID:UTC
BEGIN:STANDARD
TZOFFSETFROM:+0000
TZOFFSETTO:+0000
TZNAME:UTC
DTSTART:20250101T000000
END:STANDARD
END:VTIMEZONE
BEGIN:VEVENT
DTSTART;VALUE=DATE:20260430
DTEND;VALUE=DATE:20260501
DTSTAMP:20260420T181950
CREATED:20260414T161106Z
LAST-MODIFIED:20260414T161112Z
UID:78050-1777507200-1777593599@openuk.uk
SUMMARY:Kube Crash Spring 2026
DESCRIPTION:30 April\, Kube Crash spring 2026\, “AI + Open Source: The New Software Supply Chain” \nAmanda Brock will be speaking at Kube Crash Spring 2026 “AI + Open Source: The New Software Supply Chain“ \n 
URL:https://openuk.uk/event-calendar/kube-crash-spring-2026/
CATEGORIES:Events OpenUK will be at
ATTACH;FMTTYPE=image/jpeg:https://openuk.uk/wp-content/uploads/2026/04/KubeCrash.jpeg
END:VEVENT
END:VCALENDAR