BEGIN:VCALENDAR
VERSION:2.0
PRODID:-//OpenUK - ECPv6.15.20//NONSGML v1.0//EN
CALSCALE:GREGORIAN
METHOD:PUBLISH
X-WR-CALNAME:OpenUK
X-ORIGINAL-URL:https://openuk.uk
X-WR-CALDESC:Events for OpenUK
REFRESH-INTERVAL;VALUE=DURATION:PT1H
X-Robots-Tag:noindex
X-PUBLISHED-TTL:PT1H
BEGIN:VTIMEZONE
TZID:UTC
BEGIN:STANDARD
TZOFFSETFROM:+0000
TZOFFSETTO:+0000
TZNAME:UTC
DTSTART:20250101T000000
END:STANDARD
END:VTIMEZONE
BEGIN:VEVENT
DTSTART;VALUE=DATE:20260430
DTEND;VALUE=DATE:20260501
DTSTAMP:20260423T201943
CREATED:20260414T161106Z
LAST-MODIFIED:20260414T161112Z
UID:78050-1777507200-1777593599@openuk.uk
SUMMARY:Kube Crash Spring 2026
DESCRIPTION:30 April\, Kube Crash spring 2026\, “AI + Open Source: The New Software Supply Chain” \nAmanda Brock will be speaking at Kube Crash Spring 2026 “AI + Open Source: The New Software Supply Chain“ \n 
URL:https://openuk.uk/event-calendar/kube-crash-spring-2026/
CATEGORIES:Events OpenUK will be at
ATTACH;FMTTYPE=image/jpeg:https://openuk.uk/wp-content/uploads/2026/04/KubeCrash.jpeg
END:VEVENT
BEGIN:VEVENT
DTSTART;VALUE=DATE:20260514
DTEND;VALUE=DATE:20260515
DTSTAMP:20260423T201943
CREATED:20251215T104212Z
LAST-MODIFIED:20260311T152820Z
UID:75269-1778716800-1778803199@openuk.uk
SUMMARY:CIO ForwardTech London 2026
DESCRIPTION: CIO ForwardTech London – Keynote Address Open Source \nCIO ForwardTech brings together IT leaders to explore the trends shaping today’s technology markets and the innovations on the horizon. As a partner\, you can connect with IT leaders actively seeking future-ready solutions—through speaking opportunities\, exhibition booths\, and 1-to-1 meetings.
URL:https://openuk.uk/event-calendar/cio-forwardtech-london-2026/
CATEGORIES:Events OpenUK will be at
ATTACH;FMTTYPE=image/jpeg:https://openuk.uk/wp-content/uploads/2025/12/CIO.jpeg
END:VEVENT
BEGIN:VEVENT
DTSTART;VALUE=DATE:20260527
DTEND;VALUE=DATE:20260529
DTSTAMP:20260423T201943
CREATED:20260413T101732Z
LAST-MODIFIED:20260413T101805Z
UID:77834-1779840000-1780012799@openuk.uk
SUMMARY:Data Fest 2026
DESCRIPTION:27 – 28 May 2026 || In Person || Edinburgh \nhttps://datafest.global/
URL:https://openuk.uk/event-calendar/data-fest-2026/
CATEGORIES:Events OpenUK will be at
ATTACH;FMTTYPE=image/png:https://openuk.uk/wp-content/uploads/2026/04/DF26-Amanda-Brock-promo-image.png
END:VEVENT
BEGIN:VEVENT
DTSTART;VALUE=DATE:20260611
DTEND;VALUE=DATE:20260613
DTSTAMP:20260423T201943
CREATED:20260420T115319Z
LAST-MODIFIED:20260420T115319Z
UID:78230-1781136000-1781308799@openuk.uk
SUMMARY:Fourth Workshop on Multimodal AI
DESCRIPTION:11–12 June 2026\, UCL East Campus\, One Pool Street\, London\, UK \nUK Open Multimodal AI Network
URL:https://openuk.uk/event-calendar/fourth-workshop-on-multimodal-ai/
CATEGORIES:Events OpenUK will be at
ATTACH;FMTTYPE=image/jpeg:https://openuk.uk/wp-content/uploads/2026/04/Fourth-Workshop-on-Multimodal-AI.jpeg
END:VEVENT
BEGIN:VEVENT
DTSTART;VALUE=DATE:20260629
DTEND;VALUE=DATE:20260701
DTSTAMP:20260423T201943
CREATED:20260417T103509Z
LAST-MODIFIED:20260417T103509Z
UID:78131-1782691200-1782863999@openuk.uk
SUMMARY:Redefining the Enterprise to Drive Measurable Business Value with AI
DESCRIPTION:Reuters Momentum AI London 2026 brings together 300 vetted CIOs\, CDOs\, CTOs\, and their teams for candid peer benchmarking and honest conversations about what works and what doesn’t in enterprise AI transformation.\nAcross two days\, engage in Chatham House roundtable discussions\, closed-door labs\, multi-stakeholder panels\, and case studies with actual numbers. \nFollow a clear journey through six essential steps for enterprise AI mastery: \n1. Benchmark AI Maturity\n2. Align Leadership & Enterprise AI Policy\n3. Accelerate Adoption with Literacy & Culture that Sticks\n4. Scaling AI for Tangible Business Value\n5. Governance by Principle\n6. Investments\, ROI & Future Horizons \nDate: 29-30 June 2026 \nLocation: 155 Bishopsgate\, London EC2M 3YD \nWebsite: https://events.reutersevents.com/momentum/london
URL:https://openuk.uk/event-calendar/redefining-the-enterprise-to-drive-measurable-business-value-with-ai/
CATEGORIES:Events OpenUK will be at
ATTACH;FMTTYPE=image/jpeg:https://openuk.uk/wp-content/uploads/2026/04/Amanda-Brock-OpenUK-Banner.jpg
END:VEVENT
BEGIN:VEVENT
DTSTART;TZID=UTC:20260922T080000
DTEND;TZID=UTC:20260922T170000
DTSTAMP:20260423T201943
CREATED:20251125T114508Z
LAST-MODIFIED:20251125T114508Z
UID:74942-1790064000-1790096400@openuk.uk
SUMMARY:Civo Navigate London: Sovereignty and AI Edition
DESCRIPTION:Civo Navigate London 2026 happening on September 22nd at the iconic Convene at 155 Bishopsgate. While tickets are now available\, we wanted to give you access to a special discount saving you 50% off ticket prices. \n  \nOur super early bird sale is currently on\, with tickets available for £50. With your discount\, you can secure a ticket for just £25! You have 48 hours to claim this offer\, so don’t miss out. \n  \nTo get your discounted ticket\, simply: \nStep 1: Visit this link here: https://www.civo.com/navigate/london/2026/register\nStep 2: Enter the code LAUNCH25 during registration to claim your ticket. \n 
URL:https://openuk.uk/event-calendar/civo-navigate-london-sovereignty-and-ai-edition/
CATEGORIES:Events OpenUK will be at
ATTACH;FMTTYPE=image/png:https://openuk.uk/wp-content/uploads/2025/11/Screenshot-2025-11-25-at-11.42.43.png
END:VEVENT
END:VCALENDAR