BEGIN:VCALENDAR
VERSION:2.0
PRODID:-//OpenUK - ECPv6.15.20//NONSGML v1.0//EN
CALSCALE:GREGORIAN
METHOD:PUBLISH
X-WR-CALNAME:OpenUK
X-ORIGINAL-URL:https://openuk.uk
X-WR-CALDESC:Events for OpenUK
REFRESH-INTERVAL;VALUE=DURATION:PT1H
X-Robots-Tag:noindex
X-PUBLISHED-TTL:PT1H
BEGIN:VTIMEZONE
TZID:UTC
BEGIN:STANDARD
TZOFFSETFROM:+0000
TZOFFSETTO:+0000
TZNAME:UTC
DTSTART:20230101T000000
END:STANDARD
END:VTIMEZONE
BEGIN:VEVENT
DTSTART;TZID=UTC:20240618T183000
DTEND;TZID=UTC:20240618T210000
DTSTAMP:20260422T153421
CREATED:20240530T111023Z
LAST-MODIFIED:20241010T150718Z
UID:45524-1718735400-1718744400@openuk.uk
SUMMARY:OpenUK London Meetup #15: Sustainability and Open Source
DESCRIPTION:Join us Tuesday 18th June for our 15th OpenUK London community meet-up we will be collaborating over greener open source and sustainability! \nSign up now!\n6:30 pm: Arrive\, grab a bev\, a slice and a chat. Scope out our swag table (bring pieces to contribute or trade!)\nBook signings of Building Green Software – buy your own copy ahead or be one of 30 to win a free copy!\n7:00 pm: Greener Open Source Panel (Livestreaming for this part only) with Anne Currie\, Ruby Dickinson\, and Charles Humble\, moderated by Jennifer Riggins.\n7:45 pm: Breakout session including how to evaluate\, measure and reduce the impact of your open source contributions.\n8:15-8:30 pm: Cleanup and see-ya-next-time. \nPlease remember to bring your I.D. if you are attending in person\, as it is required to access the venue. Note the venue does not permit e-scooters or bicycles within the building. \nThank you to our sponsors Avanade for providing this great space and yummy pizza\, and for sponsoring the books!\nBy attending this or any OpenUK event\, you are adhering to our Code of Respect and OpenUK’s Competition Policy. Please read ahead. \nIf you would like to hear more about OpenUK’s other events\, you can join our Newsletter. After attending\, look out for an email with an invite to our burgeoning Slack community as a way to keep in touch and support each other between activities.
URL:https://openuk.uk/event-calendar/openuk-london-15-sustainability/
LOCATION:Avanade\, 30 Fenchurch St\, London\, City of London\, EC3M 3BD\, United Kingdom
CATEGORIES:Meetups
ATTACH;FMTTYPE=image/png:https://openuk.uk/wp-content/uploads/2024/05/OpenUK-London-15-1.png
END:VEVENT
END:VCALENDAR