BEGIN:VCALENDAR
VERSION:2.0
PRODID:-//OpenUK - ECPv6.15.20//NONSGML v1.0//EN
CALSCALE:GREGORIAN
METHOD:PUBLISH
X-WR-CALNAME:OpenUK
X-ORIGINAL-URL:https://openuk.uk
X-WR-CALDESC:Events for OpenUK
REFRESH-INTERVAL;VALUE=DURATION:PT1H
X-Robots-Tag:noindex
X-PUBLISHED-TTL:PT1H
BEGIN:VTIMEZONE
TZID:UTC
BEGIN:STANDARD
TZOFFSETFROM:+0000
TZOFFSETTO:+0000
TZNAME:UTC
DTSTART:20230101T000000
END:STANDARD
END:VTIMEZONE
BEGIN:VEVENT
DTSTART;TZID=UTC:20241106T120000
DTEND;TZID=UTC:20241106T130000
DTSTAMP:20260420T074531
CREATED:20241010T145127Z
LAST-MODIFIED:20241104T163805Z
UID:52595-1730894400-1730898000@openuk.uk
SUMMARY:OpenUK Digital Meetup #4 The IndieWeb
DESCRIPTION:SAVE THE DATE Join us on Wednesday 6th November for the Fourth OpenUK Digital Meetup\, our online-only event for OpenUK community members. \nIn this lunch-time webinar\, we’ll be joined by Ana Rodrigues (ohhelloana.blog)\, Calum Ryan (calumryan.com); as usual our hosts Lorna Mitchell (lornajane.net) and Jamie Tanna (jvt.me). \nWe’ll be learning all about why you should have your own website\, the amazing things it unlocks\, some of the benefits of owning your own identity and data in the current state of social media\, and what it means to be indieweb vs IndieWeb (https://indieweb.org). \nThis will be a lunchtime webinar. The event will not be recorded for publishing but for transcript purposes. \nBy registering the attendee confirms their acceptance of OpenUK’s Privacy Policy. By attending this or any OpenUK event\, you are adhering to our Code of Respect and OpenUK’s Competition Policy. Please read ahead. If you would like to hear more about OpenUK’s other events\, you can join our Newsletter.
URL:https://openuk.uk/event-calendar/digitalmeetup4/
LOCATION:Online
CATEGORIES:Meetups
ATTACH;FMTTYPE=image/png:https://openuk.uk/wp-content/uploads/2024/10/OpenUK-Digital-4.png
END:VEVENT
BEGIN:VEVENT
DTSTART;TZID=UTC:20241106T180000
DTEND;TZID=UTC:20241106T203000
DTSTAMP:20260420T074531
CREATED:20240912T145845Z
LAST-MODIFIED:20241105T215311Z
UID:51593-1730916000-1730925000@openuk.uk
SUMMARY:OpenUK Apprentice Meetup #3
DESCRIPTION:This event has been cancelled due to industrial action. We hope to invite Ash to join us next time he is in London and we will keep you updated. Looking forward to seeing you in December. \n_ \nBy attending this or any OpenUK event\, you are adhering to our Code of Respect and OpenUK’s Competition Policy. Please read ahead. \nIf you would like to hear more about OpenUK’s other events\, you can join our Newsletter. After attending\, look out for an email with an invite to our burgeoning Slack community as a way to keep in touch and support each other between activities.
URL:https://openuk.uk/event-calendar/apprenticemeetup3/
LOCATION:Red Badger\, 4th Floor 2 Old Street Yard\, London\, EC1Y 8AF\, United Kingdom
CATEGORIES:Meetups
ATTACH;FMTTYPE=image/png:https://openuk.uk/wp-content/uploads/2024/09/OpenUK-Apprentice-Meet-up-3-1.png
END:VEVENT
BEGIN:VEVENT
DTSTART;TZID=UTC:20241119T183000
DTEND;TZID=UTC:20241119T204500
DTSTAMP:20260420T074531
CREATED:20241014T180613Z
LAST-MODIFIED:20241122T120103Z
UID:52796-1732041000-1732049100@openuk.uk
SUMMARY:OpenUK London Meetup #19: Open Hardware
DESCRIPTION:Got an awesome Open Source Hardware project you want to demo? Contact us! We’d love to have you present (in person or remotely). We also welcome if you have any groovy hardware we can giveaway at the event! \n  \nMark your calendars for Tuesday 19th November for our 19th OpenUK London community meetup. We spend a lot of time focusing on Open Source Software\, but that’s just one of OpenUK’s three pillars. Back in September\, we covered Open Data. In this\, our last London meetup of 2024\, we are finally talking Open Hardware! \n  \n6:30 pm: Arrive\, grab a bev\, a slice and a chat. Scope out our swag table (bring pieces to contribute or trade!) \n6:55 pm: Jenny Molloy\, presentation on open DNA toolkits\, followed by QnA \n7:15 pm: Rob Taylor\, presentation on Open Source IC design for Automotive: Real World Experience\, followed by QnA \n7:35 pm: Tim Telford\, presentation on Open source hardware design for commercial Test and Measurement applications\, followed by QnA \nMore to come! Maybe you? \n  \nJoin as this is our last meetup for 2024 so don’t miss out! See you next year! \n  \nPlease remember to bring your I.D. if you are attending in person\, as it is required to access the venue. Note the venue does not permit e-scooters or bicycles within the building. \n  \nThank you to our sponsors Avanade for providing this great space and yummy pizza! \nBy attending this or any OpenUK event\, you are adhering to our Code of Respect and OpenUK’s Competition Policy. Please read ahead. \n  \nIf you would like to hear more about OpenUK’s other events\, you can join our Newsletter. After attending\, look out for an email with an invite to our burgeoning Slack community as a way to keep in touch and support each other between activities.
URL:https://openuk.uk/event-calendar/londonmeetup19/
LOCATION:Avanade\, 30 Fenchurch St\, London\, City of London\, EC3M 3BD\, United Kingdom
CATEGORIES:Meetups
ATTACH;FMTTYPE=image/png:https://openuk.uk/wp-content/uploads/2024/10/Open-Hardware-Updated-2.png
END:VEVENT
END:VCALENDAR