BEGIN:VCALENDAR
VERSION:2.0
PRODID:-//OpenUK - ECPv6.15.20//NONSGML v1.0//EN
CALSCALE:GREGORIAN
METHOD:PUBLISH
X-ORIGINAL-URL:https://openuk.uk
X-WR-CALDESC:Events for OpenUK
REFRESH-INTERVAL;VALUE=DURATION:PT1H
X-Robots-Tag:noindex
X-PUBLISHED-TTL:PT1H
BEGIN:VTIMEZONE
TZID:UTC
BEGIN:STANDARD
TZOFFSETFROM:+0000
TZOFFSETTO:+0000
TZNAME:UTC
DTSTART:20230101T000000
END:STANDARD
END:VTIMEZONE
BEGIN:VEVENT
DTSTART;TZID=UTC:20240522T120000
DTEND;TZID=UTC:20240522T133000
DTSTAMP:20260422T185352
CREATED:20240515T060002Z
LAST-MODIFIED:20241010T150709Z
UID:43196-1716379200-1716384600@openuk.uk
SUMMARY:OpenUK Digital Meetup #1: Maintainers\, Maintainers\, Maintainers!
DESCRIPTION:Join us on Wednesday 22nd May for the FIRST OpenUK Online Meetup\, our online-only event for OpenUK community members. \nThis will be a lunch-time webinar\, where you’ll get to hear from maintainers about their highs and lows about working in the open\, which ties into May being GitHub’s Maintainer Month. The event will not be recorded. \nOur speakers to be announced in the next couple of weeks. \nAgenda:\n1200 Start\n1205 Let’s hear from maintainers about the joys and not-so-joyous parts of maintaining\n1245 Questions\n1300 End \nTo make it easier to chat as a group of remote folks\, we’ll use the #online-meetup-chatter channel on the OpenUK Slack for live event discussion. \nBy registering the attendee confirms their acceptance of OpenUK’s privacy policy [https://openuk.uk/privacy-policy/]\nBy attending this or any OpenUK event\, you are adhering to our Code of Respect and OpenUK’s Competition Policy. Please read ahead.If you would like to hear more about OpenUK’s other events\, you can join our Newsletter.
URL:https://openuk.uk/event-calendar/openuk-online-1-maintainers-maintainers-maintainers/
LOCATION:Online
CATEGORIES:Meetups
ATTACH;FMTTYPE=image/webp:https://openuk.uk/wp-content/uploads/2024/05/maintainers.webp
END:VEVENT
END:VCALENDAR