BEGIN:VCALENDAR
VERSION:2.0
PRODID:-//OpenUK - ECPv6.15.20//NONSGML v1.0//EN
CALSCALE:GREGORIAN
METHOD:PUBLISH
X-ORIGINAL-URL:https://openuk.uk
X-WR-CALDESC:Events for OpenUK
REFRESH-INTERVAL;VALUE=DURATION:PT1H
X-Robots-Tag:noindex
X-PUBLISHED-TTL:PT1H
BEGIN:VTIMEZONE
TZID:UTC
BEGIN:STANDARD
TZOFFSETFROM:+0000
TZOFFSETTO:+0000
TZNAME:UTC
DTSTART:20260101T000000
END:STANDARD
END:VTIMEZONE
BEGIN:VEVENT
DTSTART;VALUE=DATE:20270315
DTEND;VALUE=DATE:20270319
DTSTAMP:20260421T232137
CREATED:20260421T155652Z
LAST-MODIFIED:20260421T155652Z
UID:78341-1805068800-1805414399@openuk.uk
SUMMARY:KubeCon + CloudNativeCon Europe 2027
DESCRIPTION:Mar 15-18 2027 | In-person | Barcelona\, Spain
URL:https://openuk.uk/event-calendar/kubecon-cloudnativecon-europe-2027/
CATEGORIES:Events of Interest
ATTACH;FMTTYPE=image/png:https://openuk.uk/wp-content/uploads/2026/04/Screenshot-2026-04-21-at-16.55.20.png
END:VEVENT
BEGIN:VEVENT
DTSTART;VALUE=DATE:20280424
DTEND;VALUE=DATE:20280428
DTSTAMP:20260421T232138
CREATED:20260421T155802Z
LAST-MODIFIED:20260421T155802Z
UID:78353-1840147200-1840492799@openuk.uk
SUMMARY:KubeCon + CloudNativeCon Europe 2028
DESCRIPTION:April 24-27 2028 | In-person | Berlin\, Germany
URL:https://openuk.uk/event-calendar/kubecon-cloudnativecon-europe-2028/
CATEGORIES:Events of Interest
ATTACH;FMTTYPE=image/png:https://openuk.uk/wp-content/uploads/2026/04/Screenshot-2026-04-21-at-16.22.11.png
END:VEVENT
END:VCALENDAR