BEGIN:VCALENDAR
VERSION:2.0
PRODID:-//OpenUK - ECPv6.15.20//NONSGML v1.0//EN
CALSCALE:GREGORIAN
METHOD:PUBLISH
X-ORIGINAL-URL:https://openuk.uk
X-WR-CALDESC:Events for OpenUK
REFRESH-INTERVAL;VALUE=DURATION:PT1H
X-Robots-Tag:noindex
X-PUBLISHED-TTL:PT1H
BEGIN:VTIMEZONE
TZID:UTC
BEGIN:STANDARD
TZOFFSETFROM:+0000
TZOFFSETTO:+0000
TZNAME:UTC
DTSTART:20190101T000000
END:STANDARD
END:VTIMEZONE
BEGIN:VEVENT
DTSTART;TZID=UTC:20201002T120000
DTEND;TZID=UTC:20201002T130000
DTSTAMP:20260424T040021
CREATED:20200922T123857Z
LAST-MODIFIED:20220729T083124Z
UID:9599-1601640000-1601643600@openuk.uk
SUMMARY:IBM's Journey to Open Source
DESCRIPTION:Adam Jollans is a product marketing manager in the worldwide LinuxONE marketing team. In this role he is responsible for developing the marketing strategy for IBM’s LinuxONE server and its ecosystem. \nHe has been involved with Linux and open source since 1998\, including leading the cross-IBM Linux strategy. He joined IBM in 1984\, and has worked in a range of technical\, sales and marketing roles. \nPrior to joining IBM\, he worked as an application software designer and programmer. \nHe graduated from the University of Cambridge\, England in 1980 with a degree in Computer Science\, and is a Fellow of the British Computer Society\, a Chartered Engineer\, and a Chartered IT Professional.
URL:https://openuk.uk/event-calendar/ibms-journey-to-open-source/
CATEGORIES:Friday Future Leaders Training
ATTACH;FMTTYPE=image/png:https://openuk.uk/wp-content/uploads/2020/09/Future-Leaders-Training-card-with-dito-logo-Adam-Jollans-2-Oct-2020.png
END:VEVENT
BEGIN:VEVENT
DTSTART;TZID=UTC:20201020T173000
DTEND;TZID=UTC:20201020T200000
DTSTAMP:20260424T040021
CREATED:20200922T071358Z
LAST-MODIFIED:20200925T173635Z
UID:9572-1603215000-1603224000@openuk.uk
SUMMARY:OpenUK Awards
DESCRIPTION:The highlight of 2020 for the Open Community \nA celebration of UK Leadership in Open Technology\, sponsored by Bristows law firm \nDoors open 5.30pm. Allocated seating. \nEvent 6-8pm \nAwards will be presented in 6 categories: \nIndividual \nYoung Person \nOpen Source Software \nOpen Hardware \nOpen Data \nOpen Source in Finance (sponsored by FINOS) \n OpenUK Kids’ Competition  – Special Guest Imogen Heap will announce Kids’ Competition Winners \nKeynote by Jono Bacon \nGuest tickets\, including a *goody box*\, available by invite only to nominees and guests or through a *diversity scholarship ticket*\, supported by FINOS. For information and to apply for a diversity scholarship https://openuk.uk/finos-scholarship-programme-application/ Applications must be received by 5pm on 30 September. Successful applicants informed by 7 October\, registration required 8 October to receive a goody box. \nViewing tickets (include platform participation but not a goody box) available  free of charge at https://www.eventbrite.co.uk/e/openuk-digital-awards-ceremony-sponsored-by-bristows-tickets-110797979740 \nTable plan and joining instructions shared with ticket holders in advance
URL:https://openuk.uk/event-calendar/openuk-awards/
CATEGORIES:OpenUK Events
ATTACH;FMTTYPE=image/png:https://openuk.uk/wp-content/uploads/2020/09/Awards-2020-WEBBANNER.png
END:VEVENT
BEGIN:VEVENT
DTSTART;TZID=UTC:20201030T120000
DTEND;TZID=UTC:20201030T130000
DTSTAMP:20260424T040021
CREATED:20200922T125141Z
LAST-MODIFIED:20220729T083926Z
UID:9632-1604059200-1604062800@openuk.uk
SUMMARY:Why the GPL is Great for Business
DESCRIPTION:Frank is the founder of Nextcloud and Own Cloud and talks about commercial models for open source and running a business based on GPL code. \n  \n 
URL:https://openuk.uk/event-calendar/why-the-gpl-is-great-for-business/
CATEGORIES:Friday Future Leaders Training
ATTACH;FMTTYPE=image/png:https://openuk.uk/wp-content/uploads/2020/09/Future-Leaders-Training-card-with-dito-logo-Frank-Karlitschek-30-Oct-2020.png
END:VEVENT
END:VCALENDAR