BEGIN:VCALENDAR
VERSION:2.0
PRODID:-//OpenUK - ECPv6.15.20//NONSGML v1.0//EN
CALSCALE:GREGORIAN
METHOD:PUBLISH
X-ORIGINAL-URL:https://openuk.uk
X-WR-CALDESC:Events for OpenUK
REFRESH-INTERVAL;VALUE=DURATION:PT1H
X-Robots-Tag:noindex
X-PUBLISHED-TTL:PT1H
BEGIN:VTIMEZONE
TZID:UTC
BEGIN:STANDARD
TZOFFSETFROM:+0000
TZOFFSETTO:+0000
TZNAME:UTC
DTSTART:20200101T000000
END:STANDARD
END:VTIMEZONE
BEGIN:VEVENT
DTSTART;TZID=UTC:20210303T100000
DTEND;TZID=UTC:20210303T133000
DTSTAMP:20260423T194730
CREATED:20210209T095937Z
LAST-MODIFIED:20210303T142421Z
UID:13034-1614765600-1614778200@openuk.uk
SUMMARY:Computing Deskflix 2021 - Financial Services
DESCRIPTION:This episode of Deskflix will hear from industry experts and peers in the financial sector on their 2020 best practices\, what they’ve learnt for 2021 and how they plan to overcome the next wave of disruption. \nJoin Amanda Brock on a panel with details to be confirmed later.
URL:https://openuk.uk/event-calendar/computing-deskflix-2021-financial-services/
CATEGORIES:Events OpenUK will be at
ATTACH;FMTTYPE=image/png:https://openuk.uk/wp-content/uploads/2021/02/deskflix3-580x358-1.png
END:VEVENT
BEGIN:VEVENT
DTSTART;TZID=UTC:20210304T100000
DTEND;TZID=UTC:20210304T120000
DTSTAMP:20260423T194730
CREATED:20210215T092507Z
LAST-MODIFIED:20210303T143205Z
UID:13292-1614852000-1614859200@openuk.uk
SUMMARY:Open for digital transformation - Red Hat Virtual Briefing
DESCRIPTION:In this morning briefing\, you’ll hear from our experts about the three fundamentals of an open digital transformation – technology\, process and culture. And how you can adopt these ‘open’ advantages to ensure your digital transformation is anything but generic. \nWHO SHOULD ATTEND: This event is for Board level\, senior executives and strategy leaders focussing on digital transformation\, technology and operations\, and culture
URL:https://openuk.uk/event-calendar/open-for-digital-transformation-red-hat-virtual-briefing/
CATEGORIES:Events of Interest
ATTACH;FMTTYPE=image/jpeg:https://openuk.uk/wp-content/uploads/2021/02/2B58BB91-E05D-4D96-9167-7F79B3776EE8_4_5005_c.jpeg
END:VEVENT
BEGIN:VEVENT
DTSTART;TZID=UTC:20210305T120000
DTEND;TZID=UTC:20210305T130000
DTSTAMP:20260423T194730
CREATED:20210301T122933Z
LAST-MODIFIED:20210309T184909Z
UID:13638-1614945600-1614949200@openuk.uk
SUMMARY:Standards Essential Patents and the IoT
DESCRIPTION:Robert is a solicitor at Origin Law\, and specialises in intellectual property law\, with a focus on the telecoms sector. He is also chair of the Fair Standards Alliance\, an organisation seeking to ensure that patents essential to standards are licensed on fair and reasonable and non-discriminatory terms.
URL:https://openuk.uk/event-calendar/standards-essential-patents-and-the-iot/
CATEGORIES:Friday Future Leaders Training
ATTACH;FMTTYPE=image/png:https://openuk.uk/wp-content/uploads/2021/03/OpenUK_Robert-Pocknell-Future-Leaders.png
ORGANIZER;CN="OpenUK":MAILTO:admin@openuk.uk
END:VEVENT
BEGIN:VEVENT
DTSTART;TZID=UTC:20210318T163000
DTEND;TZID=UTC:20210318T193000
DTSTAMP:20260423T194730
CREATED:20210304T153358Z
LAST-MODIFIED:20210308T164832Z
UID:13797-1616085000-1616095800@openuk.uk
SUMMARY:Understanding others\, Understanding You - The Enneagram
DESCRIPTION:OpenUK hosts quarterly events for all volunteers of the organisation. The first of 2021 will be hosted by Tim Lawrence\, Hoffman UK CO-Founder\, on Digilounge. This event will allow volunteers of OpenUK to spend time working collaboratively and socialising whilst learning more about the Enneagram Personality types and using the Ennegram to understand each other\, with Enneagram expert Tim Laurence.  \nIf you are interested in attending this event\, and getting involved with OpenUK\, please contact hello@openuk.uk.
URL:https://openuk.uk/event-calendar/understanding-others-understanding-you-the-enneagram/
CATEGORIES:OpenUK Events
ATTACH;FMTTYPE=image/jpeg:https://openuk.uk/wp-content/uploads/2021/03/6BC92948-3FB1-4C8F-B000-28EE28939AD1_4_5005_c.jpeg
ORGANIZER;CN="OpenUK":MAILTO:admin@openuk.uk
END:VEVENT
BEGIN:VEVENT
DTSTART;TZID=UTC:20210319T120000
DTEND;TZID=UTC:20210319T130000
DTSTAMP:20260423T194730
CREATED:20210303T101522Z
LAST-MODIFIED:20210322T152134Z
UID:13737-1616155200-1616158800@openuk.uk
SUMMARY:Software Heritage
DESCRIPTION:An alumnus of the Scuola Normale Superiore di Pisa\, with a PhD in Computer Science from the University of Pisa\, Roberto Di Cosmo was associate professor for almost a decade at Ecole Normale Supérieure in Paris. In 1999\, he became a Computer Science full professor at University Paris Diderot\, where he was head of doctoral studies for Computer Science from 2004 to 2009. A trustee of the IMDEA Software institute\, and member of the national committee for Open Science in France\, he is currently on leave at Inria.
URL:https://openuk.uk/event-calendar/software-heritage/
CATEGORIES:Friday Future Leaders Training
ATTACH;FMTTYPE=image/png:https://openuk.uk/wp-content/uploads/2021/03/OpenUK_Roberto-Di-Cosmo.png
ORGANIZER;CN="OpenUK":MAILTO:admin@openuk.uk
END:VEVENT
BEGIN:VEVENT
DTSTART;TZID=UTC:20210323T160000
DTEND;TZID=UTC:20210323T180000
DTSTAMP:20260423T194730
CREATED:20210315T154922Z
LAST-MODIFIED:20210315T154922Z
UID:14439-1616515200-1616522400@openuk.uk
SUMMARY:CrateDB v4.5
DESCRIPTION:Crate.io welcomes members of the developer and open source community to join us as we celebrate the release of CrateDB v4.5\, with which we open source our entire codebase! \nIn lieu of a physical meetup\, we will host this virtual event to discuss: \n\nthe importance of open source software (4:00 pm – 4:30 pm)\nhow an open source project (Quantum Leap) currently uses CrateDB (4:30 pm – 5:00 pm)\nwhat it means to align with open source values by OSS community advocates (5:15 pm – 6:00 pm)\n\nJoin the conversation and connect with Crate.io’s engineers\, leaders\, and other open-source advocates. From 6:00 pm to 7:30 pm\, you have the chance to talk with all participants in breakout rooms.
URL:https://openuk.uk/event-calendar/cratedb-v4-5/
CATEGORIES:Events OpenUK will be at
ATTACH;FMTTYPE=image/png:https://openuk.uk/wp-content/uploads/2021/03/Crate.io_.png
END:VEVENT
BEGIN:VEVENT
DTSTART;VALUE=DATE:20210330
DTEND;VALUE=DATE:20210331
DTSTAMP:20260423T194730
CREATED:20210223T191759Z
LAST-MODIFIED:20210303T142921Z
UID:13607-1617062400-1617148799@openuk.uk
SUMMARY:Open Source 101 Conference
DESCRIPTION:40 Open Source Sessions and Speakers\nAttend the 2021 Open Source 101 conference on Tuesday\, March 30 for a full day of open source programming! The event is FREE to attend and all content will be streamed LIVE and online – this is a 100% virtual one-day conference.
URL:https://openuk.uk/event-calendar/open-source-101-conference/
CATEGORIES:Events of Interest
ATTACH;FMTTYPE=image/jpeg:https://openuk.uk/wp-content/uploads/2021/02/E684864B-A2D9-4576-893A-BA4EDAC05525_4_5005_c.jpeg
END:VEVENT
END:VCALENDAR