BEGIN:VCALENDAR
VERSION:2.0
PRODID:-//OpenUK - ECPv6.15.20//NONSGML v1.0//EN
CALSCALE:GREGORIAN
METHOD:PUBLISH
X-WR-CALNAME:OpenUK
X-ORIGINAL-URL:https://openuk.uk
X-WR-CALDESC:Events for OpenUK
REFRESH-INTERVAL;VALUE=DURATION:PT1H
X-Robots-Tag:noindex
X-PUBLISHED-TTL:PT1H
BEGIN:VTIMEZONE
TZID:UTC
BEGIN:STANDARD
TZOFFSETFROM:+0000
TZOFFSETTO:+0000
TZNAME:UTC
DTSTART:20200101T000000
END:STANDARD
END:VTIMEZONE
BEGIN:VEVENT
DTSTART;TZID=UTC:20210409T180000
DTEND;TZID=UTC:20210409T200000
DTSTAMP:20260423T182029
CREATED:20210217T152243Z
LAST-MODIFIED:20210303T143316Z
UID:13541-1617991200-1617998400@openuk.uk
SUMMARY:BCS Internet Specialist Group: Digital Sovereignty\, Gaia X\, New Regulation and OpenUK
DESCRIPTION:Join Amanda Brock speaking to the BCS Internet specialist group on Digital Sovereignty\, Gaia X\, New Regulation and OpenUK. She will speak about open source in the UK\, where the geo political shift is most clearly defined by Brexit\, and ask\, what does this mean for open collaboration? How is the UK dealing with digital and data sovereignty and creating trust through transparency and the use of open?
URL:https://openuk.uk/event-calendar/digital-sovereignty-gaia-x-new-regulation-and-openuk/
CATEGORIES:Events OpenUK will be at
ATTACH;FMTTYPE=image/jpeg:https://openuk.uk/wp-content/uploads/2021/02/8B38722A-19EB-42FC-9132-FD49853D2FC6.jpeg
END:VEVENT
BEGIN:VEVENT
DTSTART;VALUE=DATE:20210412
DTEND;VALUE=DATE:20210417
DTSTAMP:20260423T182029
CREATED:20210315T154401Z
LAST-MODIFIED:20210315T154401Z
UID:14427-1618185600-1618617599@openuk.uk
SUMMARY:DrupalCon North America 2021
DESCRIPTION:DrupalCon unites experts from around the globe who create ambitious digital experiences. At DrupalCon North America 2021\, the people who create the digital experiences the world relies on every day—developers\, marketers\, agency leaders\, and business decision-makers—come together online to learn about the latest Drupal developments and contribute to the future of the open source platform.
URL:https://openuk.uk/event-calendar/drupalcon-north-america-2021/
CATEGORIES:Events of Interest
ATTACH;FMTTYPE=image/png:https://openuk.uk/wp-content/uploads/2021/03/DCNA2021_Horizontal.png
END:VEVENT
BEGIN:VEVENT
DTSTART;VALUE=DATE:20210420
DTEND;VALUE=DATE:20210421
DTSTAMP:20260423T182029
CREATED:20210222T101358Z
LAST-MODIFIED:20210222T101358Z
UID:13586-1618876800-1618963199@openuk.uk
SUMMARY:FLIGHT Europe 2021
DESCRIPTION:Synopsys will bring together leading experts from around the world to discuss the latest trends in open source license compliance\, legal risk\, and M&A due diligence. Join Amanda Brock who will be speaking at this virtual event that is free to attend. Synopsys be announcing the agenda soon.
URL:https://openuk.uk/event-calendar/flight-europe-2021/
CATEGORIES:Events OpenUK will be at
ATTACH;FMTTYPE=image/jpeg:https://openuk.uk/wp-content/uploads/2021/02/BE3E1F9C-503D-416E-8E50-A178654B.jpg
END:VEVENT
BEGIN:VEVENT
DTSTART;TZID=UTC:20210423T120000
DTEND;TZID=UTC:20210423T130000
DTSTAMP:20260423T182029
CREATED:20210329T083032Z
LAST-MODIFIED:20210427T123401Z
UID:14595-1619179200-1619182800@openuk.uk
SUMMARY:Open Chain UK
DESCRIPTION:OpenChain ISO 5230 is the International Standard for open source license compliance. It is simple\, effective and suitable for companies of all sizes in all markets. This standard is openly developed by a vibrant user community and freely available to all. It is supported by free online self-certification\, extensive reference material and official service provider partners.
URL:https://openuk.uk/event-calendar/open-chain-uk/
CATEGORIES:Friday Future Leaders Training
ATTACH;FMTTYPE=image/png:https://openuk.uk/wp-content/uploads/2021/03/Andrew-Katz-and-Sami-Atabani.png
ORGANIZER;CN="OpenUK":MAILTO:admin@openuk.uk
END:VEVENT
BEGIN:VEVENT
DTSTART;VALUE=DATE:20210427
DTEND;VALUE=DATE:20210429
DTSTAMP:20260423T182029
CREATED:20210208T121506Z
LAST-MODIFIED:20210217T140825Z
UID:12944-1619481600-1619654399@openuk.uk
SUMMARY:Red Hat Summit 2021
DESCRIPTION:The Red Hat Summit is expanding to become an all-new\, flexible conference series\, consisting of a 2‑part immersive virtual experience as well as a global tour of small-scale\, in-person* events. This series will create collective opportunities to share experiences\, innovations\, and insights. \nRed Hat Summit® 2021 is where we come together to uplift perspectives in enterprise IT all around the world\, ensuring that every contribution has a place\, every person has a voice\, and every question has a meaning.
URL:https://openuk.uk/event-calendar/red-hat-summit-2021/
CATEGORIES:Events of Interest
ATTACH;FMTTYPE=image/png:https://openuk.uk/wp-content/uploads/2021/02/red-hat-summit-2020-social-open-.png
END:VEVENT
BEGIN:VEVENT
DTSTART;TZID=UTC:20210430T120000
DTEND;TZID=UTC:20210430T130000
DTSTAMP:20260423T182029
CREATED:20210419T141620Z
LAST-MODIFIED:20210510T135428Z
UID:15000-1619784000-1619787600@openuk.uk
SUMMARY:Digital Twins
DESCRIPTION:Ashleigh is an experienced Digital Consultant who partners with senior executives and leading infrastructure organisations to transform and advance the value of their digital capabilities and social usefulness. After spending years developing digital strategies for the infrastructure sector\, Ashleigh knows what truly makes transformation a success – data and innovation wrapped in a new approach towards people and culture. \nAshleigh was part of Arup’s Data Leadership team and led the programme delivering Arup’s Data Strategy. She has operationalised corporate start-ups\, set-up thought partnership programmes and developed a National Skills Framework for Digital Built Britain. \nAshleigh is certified in Digital Business Transformation Management\, Agile\, Human-centred design and Programme Management. \nAshleigh holds a master’s degree in Cultural Management from Kings College London and was awarded a certificate from Bocconi University in Private Equity & Venture Capital. \nHer thoughts on Open: Open is about revolutionizing the way we think about\, and use\, data and technology across industries and sectors. Shifting to an Open mindset presents unprecedented value that would not otherwise be achievable. Whether we want to govern our own personal data or develop a global climate solution – Open can help do so. The possibilities are endless we just need to be willing to explore them.
URL:https://openuk.uk/event-calendar/digital-twins/
CATEGORIES:Friday Future Leaders Training
ATTACH;FMTTYPE=image/png:https://openuk.uk/wp-content/uploads/2021/04/Ashleigh-Monagle_Future-leaders.png
END:VEVENT
END:VCALENDAR