BEGIN:VCALENDAR
VERSION:2.0
PRODID:-//OpenUK - ECPv6.15.20//NONSGML v1.0//EN
CALSCALE:GREGORIAN
METHOD:PUBLISH
X-WR-CALNAME:OpenUK
X-ORIGINAL-URL:https://openuk.uk
X-WR-CALDESC:Events for OpenUK
REFRESH-INTERVAL;VALUE=DURATION:PT1H
X-Robots-Tag:noindex
X-PUBLISHED-TTL:PT1H
BEGIN:VTIMEZONE
TZID:Europe/Paris
BEGIN:DAYLIGHT
TZOFFSETFROM:+0100
TZOFFSETTO:+0200
TZNAME:CEST
DTSTART:20210328T010000
END:DAYLIGHT
BEGIN:STANDARD
TZOFFSETFROM:+0200
TZOFFSETTO:+0100
TZNAME:CET
DTSTART:20211031T010000
END:STANDARD
BEGIN:DAYLIGHT
TZOFFSETFROM:+0100
TZOFFSETTO:+0200
TZNAME:CEST
DTSTART:20220327T010000
END:DAYLIGHT
BEGIN:STANDARD
TZOFFSETFROM:+0200
TZOFFSETTO:+0100
TZNAME:CET
DTSTART:20221030T010000
END:STANDARD
BEGIN:DAYLIGHT
TZOFFSETFROM:+0100
TZOFFSETTO:+0200
TZNAME:CEST
DTSTART:20230326T010000
END:DAYLIGHT
BEGIN:STANDARD
TZOFFSETFROM:+0200
TZOFFSETTO:+0100
TZNAME:CET
DTSTART:20231029T010000
END:STANDARD
END:VTIMEZONE
BEGIN:VTIMEZONE
TZID:UTC
BEGIN:STANDARD
TZOFFSETFROM:+0000
TZOFFSETTO:+0000
TZNAME:UTC
DTSTART:20210101T000000
END:STANDARD
END:VTIMEZONE
BEGIN:VEVENT
DTSTART;TZID=Europe/Paris:20220204T090000
DTEND;TZID=Europe/Paris:20220204T180000
DTSTAMP:20260423T030137
CREATED:20211224T104748Z
LAST-MODIFIED:20211224T105010Z
UID:20769-1643965200-1643997600@openuk.uk
SUMMARY:The EU Open Source Policy Summit
DESCRIPTION:OpenUK will be leading on sustainability with CEO\, Amanda Brock\, moderating a panel including Cristian Parrino\, OpenUK’s Chief Sustainability Officer\, at the Open Forum Europe policy day on 4th February. \nOpenUK is also delighted to be the Bronze sponsor of the EU Open Source Policy Summit 2022 organised by OpenForum Europe on 4 February 2022. \nThis year’s theme: Open Source & the Grand Challenges. \nRegister now to join global technology and policy leaders to discuss how collaboration and competition are being rethought as we are innovating to solve the complex global challenges.
URL:https://openuk.uk/event-calendar/the-eu-open-source-policy-summit/
LOCATION:Virtual
CATEGORIES:Events OpenUK will be at
ATTACH;FMTTYPE=image/png:https://openuk.uk/wp-content/uploads/2021/12/OFE_Day.png
END:VEVENT
BEGIN:VEVENT
DTSTART;TZID=UTC:20220204T120000
DTEND;TZID=UTC:20220204T130000
DTSTAMP:20260423T030137
CREATED:20220111T112807Z
LAST-MODIFIED:20220128T113538Z
UID:21348-1643976000-1643979600@openuk.uk
SUMMARY:Future Founders Training: Session 3
DESCRIPTION:Join a Series of Training Sessions for Future Founders – those with an active interest in learning about the business of Open Technology. \nSession 3: Corporate Structure and IP considerations for Open Tech businesses Open Source Licensing \nPanel: Amanda Brock\, Andrew Katz\, Chris Eastham\, and Rochelle Farmer \nTopics: \n– Copyright and code  \n– What is open source – OSD and what that means  \n– What does an open source licence mean – outbound  \n– Taking contributions and contribution agreements  \n– building a business on open source licensed code  \n– Open core and licensing  \n– Non code assets and licensing – creative commons  \n– Contribution agreements -inbound  \n– Controversy and licence shifts  \n– Standards and open source  \nCompany Structure  \n– Limited companies and structuring for IP maximisation  \n– Patents and defensive organisations  \n– Brands and TradeMarks – open source trademark policies  \n– Community interactions with brand  \n– Naming projects\, products and your company  \n– Foundations  \n– Corporate or fiduciary sponsors  \n– Open Chain\, policies\, procedures and governance
URL:https://openuk.uk/event-calendar/future-founders-3/
LOCATION:Online
CATEGORIES:Future Founders Training
ATTACH;FMTTYPE=image/png:https://openuk.uk/wp-content/uploads/2022/01/Future-Founders-Training-Session-3.png
ORGANIZER;CN="OpenUK":MAILTO:admin@openuk.uk
END:VEVENT
BEGIN:VEVENT
DTSTART;VALUE=DATE:20220205
DTEND;VALUE=DATE:20220207
DTSTAMP:20260423T030137
CREATED:20211224T105221Z
LAST-MODIFIED:20211224T105221Z
UID:20802-1644019200-1644191999@openuk.uk
SUMMARY:FOSDEM 2022
DESCRIPTION:FOSDEM is a free event for software developers to meet\, share ideas and collaborate. \nThis year\, it will be virtual. We are planning a UK Wide FOSDEM Watch Party on 5 February. Hold the date and watch this space for more information of Hubs to join across the UK. \nSubmit a Dev Room or talk at FOSDEM’s site.
URL:https://openuk.uk/event-calendar/fosdem-2022/
LOCATION:Virtual
CATEGORIES:Events OpenUK will be at
ATTACH;FMTTYPE=image/png:https://openuk.uk/wp-content/uploads/2021/12/FOSDEM.png
END:VEVENT
BEGIN:VEVENT
DTSTART;TZID=UTC:20220225T120000
DTEND;TZID=UTC:20220225T130000
DTSTAMP:20260423T030137
CREATED:20220111T113028Z
LAST-MODIFIED:20220218T091319Z
UID:21363-1645790400-1645794000@openuk.uk
SUMMARY:Future Founders Training: Session 4
DESCRIPTION:Join a Series of Training Sessions for Future Founders – those with an active interest in learning about the business of Open Technology. \nSession 4: Sales in Open Source Businesses \nSpeakers: Lee Wright\, Paul Holt\, Victor Tuson Palau \nModerator: Matt Barker \nTopics: \n– The differences between selling in proprietary vs open source companies.\n– Identifying a buyer vs a user of your project\n– Selling value on top of open source\n– SaaS\, on-prem and multi cloud sales approaches
URL:https://openuk.uk/event-calendar/future-founders-4/
LOCATION:Online
CATEGORIES:Future Founders Training
ATTACH;FMTTYPE=image/png:https://openuk.uk/wp-content/uploads/2022/02/Session-4-Social-Media-Card.png
ORGANIZER;CN="OpenUK":MAILTO:admin@openuk.uk
END:VEVENT
BEGIN:VEVENT
DTSTART;TZID=UTC:20220228T190000
DTEND;TZID=UTC:20220301T003000
DTSTAMP:20260423T030137
CREATED:20220209T101231Z
LAST-MODIFIED:20220209T101240Z
UID:22116-1646074800-1646094600@openuk.uk
SUMMARY:Women in IT Awards | UK Edition
DESCRIPTION:CELEBRATING OUTSTANDING CONTRIBUTIONS TO THE TECHNOLOGY INDUSTRY. \nDiversityQ is delighted to announce the shortlist for the Women in IT Awards UK 2022! \nThe winners will be revealed at our first in-person awards ceremony since 2020 on Monday 28 February 2022 at the JW Marriott Grosvenor House\, London. \nNow in their eighth year\, the prestigious awards have recognised and celebrated over 1\,000 women\, allies\, and organisations across the UK for their outstanding contribution to the technology industry. \nSince 2015 we’ve provided a regional and global platform to showcase amazing professionals that are working to break digital boundaries and promote the importance of a more inclusive tech sector.
URL:https://openuk.uk/event-calendar/women-in-it-awards-uk-edition/
LOCATION:JW Marriott\, Grosvenor House\, Park Lane\, London\, W1K 7TN\, United Kingdom
CATEGORIES:Events OpenUK will be at
ATTACH;FMTTYPE=image/png:https://openuk.uk/wp-content/uploads/2022/02/Screenshot-2022-02-09-at-10.06.41.png
END:VEVENT
END:VCALENDAR