BEGIN:VCALENDAR
VERSION:2.0
PRODID:-//OpenUK - ECPv6.15.20//NONSGML v1.0//EN
CALSCALE:GREGORIAN
METHOD:PUBLISH
X-WR-CALNAME:OpenUK
X-ORIGINAL-URL:https://openuk.uk
X-WR-CALDESC:Events for OpenUK
REFRESH-INTERVAL;VALUE=DURATION:PT1H
X-Robots-Tag:noindex
X-PUBLISHED-TTL:PT1H
BEGIN:VTIMEZONE
TZID:UTC
BEGIN:STANDARD
TZOFFSETFROM:+0000
TZOFFSETTO:+0000
TZNAME:UTC
DTSTART:20210101T000000
END:STANDARD
END:VTIMEZONE
BEGIN:VEVENT
DTSTART;VALUE=DATE:20221003
DTEND;VALUE=DATE:20221005
DTSTAMP:20260422T121818
CREATED:20220722T095529Z
LAST-MODIFIED:20220722T095529Z
UID:25446-1664755200-1664927999@openuk.uk
SUMMARY:KubeHuddle 2022
DESCRIPTION:
URL:https://openuk.uk/event-calendar/kubehuddle-2022/
LOCATION:Edinburgh\, Scotland
CATEGORIES:Events of Interest
ATTACH;FMTTYPE=image/png:https://openuk.uk/wp-content/uploads/2022/07/Screenshot-2022-07-22-at-10.54.26.png
END:VEVENT
BEGIN:VEVENT
DTSTART;VALUE=DATE:20221011
DTEND;VALUE=DATE:20221014
DTSTAMP:20260422T121818
CREATED:20221003T123335Z
LAST-MODIFIED:20221003T125808Z
UID:26789-1665446400-1665705599@openuk.uk
SUMMARY:Machine Identity Management Summit 2022
DESCRIPTION:Our  Entrepreneur in Residence & JetStack co-founder Matt Barker hosts a discussion on how companies can successfully adopt cloud native and how Cloud Native Foundation can help
URL:https://openuk.uk/event-calendar/machine-identity-management-summit-2022/
LOCATION:Virtual
CATEGORIES:Events OpenUK will be at
ATTACH;FMTTYPE=image/png:https://openuk.uk/wp-content/uploads/2022/10/Screen-Shot-2022-10-03-at-8.57.44-AM.png
END:VEVENT
BEGIN:VEVENT
DTSTART;TZID=UTC:20221017T100000
DTEND;TZID=UTC:20221017T173000
DTSTAMP:20260422T121818
CREATED:20220828T133759Z
LAST-MODIFIED:20221031T174249Z
UID:26296-1666000800-1666027800@openuk.uk
SUMMARY:Open Source Software: Infrastructure\, Curation and Security\, Thought Leadership Event
DESCRIPTION:Sponsored by Bristows Law Firm\, In Association with Open Source Security Foundation \nKeynotes:  \n\nLord Maude\, Former Cabinet Minister and founder of GDS \nJim Zemlin\, CEO\, Linux Foundation\nAmanda Brock\, CEO\, OpenUK & Dr. Jennifer Barth\, SmoothMedia\nDr Rebecca Rumbul\, Executive Director and CEO Rust Foundation\n\nPanels: \n10:00 – 10:10 Opening Remarks – Amanda Brock OpenUK \n10:10 – 10:25 Keynote: Lord Maude\, Former Cabinet Minister and founder of GDS  \n10:25  – 10:40 Keynote: Jim Zemlin\, CEO\, Linux Foundation \n10:40-11:30 Panel: Open Source’s impact on infrastructure in the UK Public Sector? | Moderator: Joanna Hodgson\, UK Country Leader\, Red Hat \n\nMike Bracken\, Partner\, Public Digital\, former Executive Director\, Digital\, Cabinet Office\nDr. Richard Dobson\, Head of Digital and Data at Energy Systems Catapult\nPaul Booth\, Head of Hybrid Cloud Services DWP\nAshleigh Monagle\, Innovation Consulting Lead\, Mott MacDonald\n\n11:30 – 11:50 Coffee Break  \n11:50 – 12:40 Panel: Supply Chain Management and SBOM’s | Moderator: Judy Parnall\, Head of Standards and Industry\, BBC \n\nAmanda Brock\, CEO\, OpenUK\nPhil Young\, Director\, Digital Catapult\nSimon Wardley\, Researcher\, DxC Leading Edge\nMatt Barker\, Founder and CEO JetStack\n\n12:40 – 13:30 Panel: OSPO’s and Governance of Open Source Software | Moderator: Dawn Foster Director of Open Source Community Strategy\, VMware \n\nSami Atabani\, Open Chain\nKeith Bergelt\, CEO\, Open Invention Network\nAndrew Wafaa\, Head of Open Source Program Office\, Arm\n\n13:30 – 14:30 Lunch \n14:30 – 14:45 Keynote:  Amanda Brock\, CEO OpenUK and Dr Jennifer Barth\, Research Director\, Symmetry \n14:45 – 15:00 Keynote: Dr Rebecca Rumbul\, Executive Director and CEO Rust Foundation \n15:00 – 16:00 Panel: Security – Practical Challenges | Moderator: Liz Rice\, Chief Open Source Officer Isovalent and OpenUK Board \n\nAndrew Martin\, OpenUK CISO and Founder and CEO\, Control Plane\nSarah Novotny\, Open Source Wonk\, Azure Office of CTO\,  Microsoft\nMark Cox\, VP Security\, Apache Foundation (Log4J)\nSal Kimmich\, Open Source Developer Advocate\, Sontaype\n\n16:00 – 16:25 Afternoon tea \n16:25 – 17:25 Panel: Policy Challenges & Funding Open Source Infrastructure | Moderator: Emma Thwaites\, Director\, Open Data Institute \n\nJim Zemlin\, CEO\, Linux Foundation\nDr Rebecca Rumbul\, Executive Director and CEO Rust Foundation\nMark Bohannon\, Vice President\, Global Public Policy & Associate General Counsel\, Red Hat\nBenjamin Nickolls\, Executive Director\, Open Source Collective\n\n17:25  – 17:30 Closing  – Toby Crick\, Bristows \n17:30 – 19:00  Drinks reception sponsored by Bristows – included in day registration \n  \nTickets for this event are limited and not on public sale currently | Bristows LLP\, 100 Victoria Embankment\, London\, EC4Y 0DH | For information contact admin@openuk.uk \n  \n\n\nOpenUK’s “Summer of Open Source Software” recognised as one of 8 Notable Open Source Security Initiatives of 2022 by CSO online
URL:https://openuk.uk/event-calendar/open-source-software-infrastructure-curation-and-security-thought-leadership-event/
LOCATION:Bristows LLP\, 100 Victoria Embankment\, London\, EC4Y 0DH\, United Kingdom
CATEGORIES:OpenUK Events,Summer of Security
ATTACH;FMTTYPE=image/png:https://openuk.uk/wp-content/uploads/2022/08/Untitled-design.png
ORGANIZER;CN="OpenUK":MAILTO:admin@openuk.uk
END:VEVENT
BEGIN:VEVENT
DTSTART;VALUE=DATE:20221019
DTEND;VALUE=DATE:20221020
DTSTAMP:20260422T121818
CREATED:20221019T112557Z
LAST-MODIFIED:20230705T112718Z
UID:34307-1666137600-1666223999@openuk.uk
SUMMARY:TechNES FPGA Event
DESCRIPTION:TechNES FPGA Event\, Keynote\, “State of Open Source”\, Solihull
URL:https://openuk.uk/event-calendar/technes-fpga-event/
LOCATION:Solihull
CATEGORIES:Events OpenUK will be at
ATTACH;FMTTYPE=image/jpeg:https://openuk.uk/wp-content/uploads/2023/07/221019-TechNES-FPGA-Event-Keynote-State-of-Open-Source-Solihull.jpg
END:VEVENT
BEGIN:VEVENT
DTSTART;VALUE=DATE:20221024
DTEND;VALUE=DATE:20221029
DTSTAMP:20260422T121818
CREATED:20220722T095036Z
LAST-MODIFIED:20220722T095125Z
UID:25428-1666569600-1667001599@openuk.uk
SUMMARY:KubeCon + CloudNativeCon North America 2022
DESCRIPTION:The Cloud Native Computing Foundation’s flagship conference gathers adopters and technologists from leading open source and cloud native communities in Detroit\, Michigan from October 24 – 28\, 2022. Join containerd\, CoreDNS\, Envoy\, etcd\, Fluentd\, Harbor\, Helm\, Jaeger\, Kubernetes\, Linkerd\, Open Policy Agent\, Prometheus\, Rook\, TiKV\, TUF\, Vitess\, Argo\, Buildpacks\, Cilium\, CloudEvents\, CNI\, Contour\, Cortex\, CRI-O\, Crossplane\, dapr\, Dragonfly\, Emissary Ingress\, Falco\, Flagger\, Flux\, gRPC\, KEDA\, KubeEdge\, Litmus\, Longhorn\, NATS\, Notary\, OpenTelemetry\, Operator Framework\, SPIFFE\, SPIRE\, and Thanos as the community gathers for five days to further the education and advancement of cloud native computing.
URL:https://openuk.uk/event-calendar/kubecon-cloudnativecon-north-america-2022/
LOCATION:Detroit\, Michigan
CATEGORIES:Events OpenUK will be at
ATTACH;FMTTYPE=image/png:https://openuk.uk/wp-content/uploads/2022/07/Screenshot-2022-07-22-at-10.49.51.png
END:VEVENT
BEGIN:VEVENT
DTSTART;VALUE=DATE:20221024
DTEND;VALUE=DATE:20221026
DTSTAMP:20260422T121818
CREATED:20221025T171543Z
LAST-MODIFIED:20221025T171628Z
UID:27508-1666569600-1666742399@openuk.uk
SUMMARY:Cloud Native SecurityCon
DESCRIPTION:Cloud Native SecurityCon is designed to foster collaboration\, discussion and knowledge sharing of cloud native security projects and how to best use these to address security challenges and opportunities. The goal is not just to propose solutions that incrementally improve what has come before\, but to give room to breakthrough technology and advances in modern security approaches. Topics of sessions and lightning talks presented by expert practitioners include architecture and policy\, secure software development\, supply chain security\, identity and access\, forensics\, and more.
URL:https://openuk.uk/event-calendar/cloud-native-securitycon/
CATEGORIES:Events of Interest
ATTACH;FMTTYPE=image/png:https://openuk.uk/wp-content/uploads/2022/10/Screen-Shot-2022-10-25-at-1.16.03-PM.png
END:VEVENT
BEGIN:VEVENT
DTSTART;TZID=UTC:20221025T180000
DTEND;TZID=UTC:20221025T210000
DTSTAMP:20260422T121818
CREATED:20221024T165008Z
LAST-MODIFIED:20221025T171710Z
UID:27382-1666720800-1666731600@openuk.uk
SUMMARY:OpenUK London Meet-Up
DESCRIPTION:Join us for our first London Meet Up on 25 October 2022 at 10 Chiswell Street\, London\,  thanks to Avanade’s sponsorship. \nThis month’s event will feature Fergus Kidd and Szymon Duchniewicz from Avanade as speakers.
URL:https://openuk.uk/event-calendar/openuk-london-meet-up/
LOCATION:Avanade\, 30 Fenchurch St\, London\, City of London\, EC3M 3BD\, United Kingdom
CATEGORIES:Meetups,OpenUK Events
ATTACH;FMTTYPE=image/jpeg:https://openuk.uk/wp-content/uploads/2022/10/MEETUP-SOCIAL-CARDS.pptx-2-1.jpg
END:VEVENT
BEGIN:VEVENT
DTSTART;VALUE=DATE:20221030
DTEND;VALUE=DATE:20221103
DTSTAMP:20260422T121818
CREATED:20211224T113720Z
LAST-MODIFIED:20220327T172342Z
UID:21009-1667088000-1667433599@openuk.uk
SUMMARY:All Things Open\, 10th Anniversary
DESCRIPTION:We’re celebrating 10 years of All Things Open next October 30-November 2\, and we invite you save the date and join us. \nTen year celebrations are rare and we are beyond grateful\, so we’re already planing some “out of this world” programming and events.
URL:https://openuk.uk/event-calendar/all-things-open/
LOCATION:Raleigh\, North Carolina
CATEGORIES:Events OpenUK will be at
ATTACH;FMTTYPE=image/png:https://openuk.uk/wp-content/uploads/2021/12/all_things_open.png
END:VEVENT
END:VCALENDAR