BEGIN:VCALENDAR
VERSION:2.0
PRODID:-//OpenUK - ECPv6.15.20//NONSGML v1.0//EN
CALSCALE:GREGORIAN
METHOD:PUBLISH
X-ORIGINAL-URL:https://openuk.uk
X-WR-CALDESC:Events for OpenUK
REFRESH-INTERVAL;VALUE=DURATION:PT1H
X-Robots-Tag:noindex
X-PUBLISHED-TTL:PT1H
BEGIN:VTIMEZONE
TZID:UTC
BEGIN:STANDARD
TZOFFSETFROM:+0000
TZOFFSETTO:+0000
TZNAME:UTC
DTSTART:20210101T000000
END:STANDARD
END:VTIMEZONE
BEGIN:VTIMEZONE
TZID:Europe/London
BEGIN:DAYLIGHT
TZOFFSETFROM:+0000
TZOFFSETTO:+0100
TZNAME:BST
DTSTART:20210328T010000
END:DAYLIGHT
BEGIN:STANDARD
TZOFFSETFROM:+0100
TZOFFSETTO:+0000
TZNAME:GMT
DTSTART:20211031T010000
END:STANDARD
BEGIN:DAYLIGHT
TZOFFSETFROM:+0000
TZOFFSETTO:+0100
TZNAME:BST
DTSTART:20220327T010000
END:DAYLIGHT
BEGIN:STANDARD
TZOFFSETFROM:+0100
TZOFFSETTO:+0000
TZNAME:GMT
DTSTART:20221030T010000
END:STANDARD
BEGIN:DAYLIGHT
TZOFFSETFROM:+0000
TZOFFSETTO:+0100
TZNAME:BST
DTSTART:20230326T010000
END:DAYLIGHT
BEGIN:STANDARD
TZOFFSETFROM:+0100
TZOFFSETTO:+0000
TZNAME:GMT
DTSTART:20231029T010000
END:STANDARD
END:VTIMEZONE
BEGIN:VEVENT
DTSTART;VALUE=DATE:20221030
DTEND;VALUE=DATE:20221103
DTSTAMP:20260422T103424
CREATED:20211224T113720Z
LAST-MODIFIED:20220327T172342Z
UID:21009-1667088000-1667433599@openuk.uk
SUMMARY:All Things Open\, 10th Anniversary
DESCRIPTION:We’re celebrating 10 years of All Things Open next October 30-November 2\, and we invite you save the date and join us. \nTen year celebrations are rare and we are beyond grateful\, so we’re already planing some “out of this world” programming and events.
URL:https://openuk.uk/event-calendar/all-things-open/
LOCATION:Raleigh\, North Carolina
CATEGORIES:Events OpenUK will be at
ATTACH;FMTTYPE=image/png:https://openuk.uk/wp-content/uploads/2021/12/all_things_open.png
END:VEVENT
BEGIN:VEVENT
DTSTART;VALUE=DATE:20221101
DTEND;VALUE=DATE:20221102
DTSTAMP:20260422T103424
CREATED:20221101T112809Z
LAST-MODIFIED:20230705T112952Z
UID:34319-1667260800-1667347199@openuk.uk
SUMMARY:Low Code Con 2022
DESCRIPTION:Low Code Con 2022\, Keynote\, “State of Open Source”\, Digital
URL:https://openuk.uk/event-calendar/low-code-con-2022/
LOCATION:Virtual
CATEGORIES:Events OpenUK will be at
ATTACH;FMTTYPE=image/png:https://openuk.uk/wp-content/uploads/2023/07/221101-Low-Code-Con-2022-Keynote-State-of-Open-Source-Digital.png
END:VEVENT
BEGIN:VEVENT
DTSTART;VALUE=DATE:20221107
DTEND;VALUE=DATE:20221203
DTSTAMP:20260422T103424
CREATED:20221107T111637Z
LAST-MODIFIED:20221107T111637Z
UID:27889-1667779200-1670025599@openuk.uk
SUMMARY:SCALE 20x - Call For Papers
DESCRIPTION:Pasadena on March 9-12\, 2023 \nThe Call for Papers is open until December 02\, 2022. Proposals maybe submitted via the SCALE website at:\nwww.socallinuxexpo.org/scale/20x/cfp/ \nDetails about previous presentations and activities at SCALE can be found at:\nwww.socallinuxexpo.org/scale/19x
URL:https://openuk.uk/event-calendar/scale-20x-call-for-papers/
CATEGORIES:Call for Papers
ATTACH;FMTTYPE=image/svg+xml:https://openuk.uk/wp-content/uploads/2022/11/scale_logo_lg.svg
END:VEVENT
BEGIN:VEVENT
DTSTART;VALUE=DATE:20221108
DTEND;VALUE=DATE:20221111
DTSTAMP:20260422T103424
CREATED:20211224T113853Z
LAST-MODIFIED:20211224T114003Z
UID:21024-1667865600-1668124799@openuk.uk
SUMMARY:Linux Foundation Member Summit
DESCRIPTION:An annual gathering for Linux Foundation members that fosters collaboration\, innovation\, and partnerships among the leading projects and organizations working to drive digital transformation with open source technologies.
URL:https://openuk.uk/event-calendar/linux-foundation-member-summit/
LOCATION:Lake Tahoe\, California
CATEGORIES:Events of Interest
ATTACH;FMTTYPE=image/png:https://openuk.uk/wp-content/uploads/2021/12/linux_foundation_member_summit.png
END:VEVENT
BEGIN:VEVENT
DTSTART;TZID=UTC:20221108T080000
DTEND;TZID=UTC:20221108T170000
DTSTAMP:20260422T103424
CREATED:20221027T163500Z
LAST-MODIFIED:20230705T113209Z
UID:27580-1667894400-1667926800@openuk.uk
SUMMARY:ODI Summit 2022
DESCRIPTION:Join the ODI and OpenUK friends and colleagues at the ODI (Open Data Institute) Summit 2022! Amanda Brock will be hosting a panel on 8 November. This year’s event focuses on the last ten years of open data (and data across the spectrum). Hurry! Claim your free ticket now by clicking this link (first come\, first served). No free tickets left? Buy your £99 ticket here. \nThis event will take place virtually.
URL:https://openuk.uk/event-calendar/odi-summit-2022/
LOCATION:Virtual
CATEGORIES:Events of Interest,Events OpenUK will be at
ATTACH;FMTTYPE=image/png:https://openuk.uk/wp-content/uploads/2022/10/Screen-Shot-2022-10-27-at-10.37.22-AM.png
END:VEVENT
BEGIN:VEVENT
DTSTART;TZID=UTC:20221108T090000
DTEND;TZID=UTC:20221108T173000
DTSTAMP:20260422T103424
CREATED:20221025T144014Z
LAST-MODIFIED:20221025T144014Z
UID:27454-1667898000-1667928600@openuk.uk
SUMMARY:FutureStack - London
DESCRIPTION:What is FutureStack?\n{Future}Stack is our FREE conference for software engineers by engineers where creators come together to see how end-to-end observability gives them the data to plan\, build\, deploy\, and run great software. We’ll cover topics including alerts\, best practices for tool consolidation\, cloud migration\, machine learning\, and more…
URL:https://openuk.uk/event-calendar/futurestack-london/
LOCATION:The Steel Yard\, Allhallows Lane\, London\, EC4R 3UE\, The Steel Yard\, Allhallows Lane\, London\, EC4R 3UE\, United Kingdom
CATEGORIES:Events of Interest
ATTACH;FMTTYPE=image/png:https://openuk.uk/wp-content/uploads/2022/10/Screen-Shot-2022-10-25-at-10.39.16-AM.png
END:VEVENT
BEGIN:VEVENT
DTSTART;VALUE=DATE:20221115
DTEND;VALUE=DATE:20221116
DTSTAMP:20260422T103424
CREATED:20221115T113747Z
LAST-MODIFIED:20230705T114007Z
UID:34328-1668470400-1668556799@openuk.uk
SUMMARY:EcoEx On stage UK
DESCRIPTION:EcoEx On stage UK\, Keynote\, “State of Open Source”\, London
URL:https://openuk.uk/event-calendar/ecoex-on-stage-uk/
LOCATION:London
CATEGORIES:Events OpenUK will be at
ATTACH;FMTTYPE=image/png:https://openuk.uk/wp-content/uploads/2023/07/221115-EcoEx-On-stage-UK-Keynote-State-of-Open-Source-London.png
END:VEVENT
BEGIN:VEVENT
DTSTART;VALUE=DATE:20221121
DTEND;VALUE=DATE:20221122
DTSTAMP:20260422T103424
CREATED:20221121T114035Z
LAST-MODIFIED:20230705T114208Z
UID:34337-1668988800-1669075199@openuk.uk
SUMMARY:Women of Silicon Roundabout
DESCRIPTION:Women of Silicon Roundabout\, Keynote\, London
URL:https://openuk.uk/event-calendar/women-of-silicon-roundabout/
LOCATION:London
CATEGORIES:Events OpenUK will be at
ATTACH;FMTTYPE=image/jpeg:https://openuk.uk/wp-content/uploads/2023/07/221121-Women-of-Silicon-Roundabout-Keynote-London.jpg
END:VEVENT
BEGIN:VEVENT
DTSTART;VALUE=DATE:20221122
DTEND;VALUE=DATE:20221124
DTSTAMP:20260422T103424
CREATED:20220615T102437Z
LAST-MODIFIED:20220615T102437Z
UID:24168-1669075200-1669247999@openuk.uk
SUMMARY:Kubernetes Community Days UK
DESCRIPTION:Kubernetes Community Days UK returns for 2022 and is taking place in-person at CodeNode\, London on 22nd and 23rd November.  \nThis event brings together the cloud native community from across the UK to learn\, network and collaborate. Kubernetes Community Days UK is supported by the Cloud Native Computing Foundation\, and organised by community group leaders.
URL:https://openuk.uk/event-calendar/kubernetes-community-days-uk/
LOCATION:London
CATEGORIES:Events of Interest
ATTACH;FMTTYPE=image/png:https://openuk.uk/wp-content/uploads/2022/06/Screenshot-2022-06-15-at-03.21.41.png
END:VEVENT
BEGIN:VEVENT
DTSTART;VALUE=DATE:20221122
DTEND;VALUE=DATE:20221123
DTSTAMP:20260422T103424
CREATED:20221122T114238Z
LAST-MODIFIED:20230705T114639Z
UID:34346-1669075200-1669161599@openuk.uk
SUMMARY:Umbraco Together
DESCRIPTION:Umbraco Together\, Keynote\, “State of Open Source”\, London
URL:https://openuk.uk/event-calendar/umbraco-together/
LOCATION:London
CATEGORIES:Events OpenUK will be at
ATTACH;FMTTYPE=image/png:https://openuk.uk/wp-content/uploads/2023/07/221122-Umbraco-Together-Keynote-State-of-Open-Source-London.png
END:VEVENT
BEGIN:VEVENT
DTSTART;TZID=UTC:20221129T180000
DTEND;TZID=UTC:20221129T210000
DTSTAMP:20260422T103424
CREATED:20221029T173455Z
LAST-MODIFIED:20221129T112514Z
UID:27562-1669744800-1669755600@openuk.uk
SUMMARY:London Meet-Up
DESCRIPTION:This event has been cancelled \nStay tuned for information on the next London Meet-Up
URL:https://openuk.uk/event-calendar/london-meet-up/
LOCATION:Avanade\, 30 Fenchurch St\, London\, City of London\, EC3M 3BD\, United Kingdom
CATEGORIES:Meetups,OpenUK Events
ATTACH;FMTTYPE=image/png:https://openuk.uk/wp-content/uploads/2022/09/Screen_Shot_2022-09-21_at_6.42.51_AM-removebg-preview-e1663760887199.png
END:VEVENT
BEGIN:VEVENT
DTSTART;TZID=Europe/London:20221130T180000
DTEND;TZID=Europe/London:20221130T220000
DTSTAMP:20260422T103424
CREATED:20220509T130808Z
LAST-MODIFIED:20221024T165330Z
UID:23685-1669831200-1669845600@openuk.uk
SUMMARY:OpenUK Awards - Third Edition
DESCRIPTION:The third edition of the OpenUK Awards returns on 30th November at the House of Lords. \nFor more information email admin@openuk.uk
URL:https://openuk.uk/event-calendar/openuk-awards-third-edition/
LOCATION:House of Lords\, Parliament Square\, London\, SW1A 0PW\, United Kingdom
CATEGORIES:OpenUK Events
ATTACH;FMTTYPE=image/png:https://openuk.uk/wp-content/uploads/2022/05/openuk_awards_2022_2_50.png
ORGANIZER;CN="OpenUK":MAILTO:admin@openuk.uk
END:VEVENT
END:VCALENDAR