BEGIN:VCALENDAR
VERSION:2.0
PRODID:-//OpenUK - ECPv6.15.20//NONSGML v1.0//EN
CALSCALE:GREGORIAN
METHOD:PUBLISH
X-WR-CALNAME:OpenUK
X-ORIGINAL-URL:https://openuk.uk
X-WR-CALDESC:Events for OpenUK
REFRESH-INTERVAL;VALUE=DURATION:PT1H
X-Robots-Tag:noindex
X-PUBLISHED-TTL:PT1H
BEGIN:VTIMEZONE
TZID:UTC
BEGIN:STANDARD
TZOFFSETFROM:+0000
TZOFFSETTO:+0000
TZNAME:UTC
DTSTART:20210101T000000
END:STANDARD
END:VTIMEZONE
BEGIN:VEVENT
DTSTART;VALUE=DATE:20221208
DTEND;VALUE=DATE:20230220
DTSTAMP:20260420T074450
CREATED:20221208T163323Z
LAST-MODIFIED:20221208T163323Z
UID:28651-1670457600-1676851199@openuk.uk
SUMMARY:Berlin Buzzwords Call for Papers
DESCRIPTION:You can submit your proposal and find more information on our Call for Papers at https://2023.berlinbuzzwords.de/call-for-papers/ \nThe CFP closes 19 Feb 2023 \nNext year’s Berlin Buzzwords will take place June 18-20\, 2023 at Kulturbrauerei Berlin. If you are not planning on speaking next year but still would like to attend the conference\, you can get your ticket at https://2023.berlinbuzzwords.de/tickets/. Our special offer Trust Us Tickets are available until the end of December! \nIf your company is interested in a sponsorship\, please contact Mareike at partner@berlinbuzzwords.de
URL:https://openuk.uk/event-calendar/berlin-buzzwords-call-for-papers/
CATEGORIES:Call for Papers
ATTACH;FMTTYPE=image/png:https://openuk.uk/wp-content/uploads/2022/12/Screen-Shot-2022-12-08-at-11.32.10-AM.png
END:VEVENT
BEGIN:VEVENT
DTSTART;VALUE=DATE:20221208
DTEND;VALUE=DATE:20230128
DTSTAMP:20260420T074450
CREATED:20221208T163654Z
LAST-MODIFIED:20221208T163654Z
UID:28660-1670457600-1674863999@openuk.uk
SUMMARY:2023 OCP Regional Summit
DESCRIPTION:The Call for Papers for the 2023 OCP Regional Summit is now open! The Summit will take place April 19-20\, 2023 in Prague\, Czech Republic. These two days will be packed with Keynotes\, Exhibits\, Executive Talks and Engineering Workshops. \nSubmit to the cfp here: https://speakermgmt.fnvirtual.app/app/2023ocpreg/29/presentations \nThe submission period ends Friday\, January 27
URL:https://openuk.uk/event-calendar/2023-ocp-regional-summit/
CATEGORIES:Call for Papers
ATTACH;FMTTYPE=image/png:https://openuk.uk/wp-content/uploads/2022/12/Screen-Shot-2022-12-08-at-11.35.58-AM.png
END:VEVENT
BEGIN:VEVENT
DTSTART;TZID=UTC:20230126T150000
DTEND;TZID=UTC:20230126T170000
DTSTAMP:20260420T074450
CREATED:20230118T120701Z
LAST-MODIFIED:20230118T120701Z
UID:28981-1674745200-1674752400@openuk.uk
SUMMARY:OpenChain UK Work Group Meeting
DESCRIPTION:Moorcrofts LLP and its sister compliance company Orcro Limited\, as OpenChain partners invite you to join us at the next meeting of the OpenChain UK Work Group: \nDate: 26th January 2023\nTime: 15:00 – 17:00\nVenue: Both virtual and physical. You can select your preference on the booking form. \nThe physical meeting will take place at the offices of Analog Devices in Hayes\, West London (near Heathrow) at the Old Vinyl Factory\, 5 Pressing Lane\, Hayes UB3 1EP.
URL:https://openuk.uk/event-calendar/openchain-uk-work-group-meeting/
CATEGORIES:Events of Interest
ATTACH;FMTTYPE=image/jpeg:https://openuk.uk/wp-content/uploads/2023/01/unnamed.jpg
END:VEVENT
END:VCALENDAR