BEGIN:VCALENDAR
VERSION:2.0
PRODID:-//OpenUK - ECPv6.15.20//NONSGML v1.0//EN
CALSCALE:GREGORIAN
METHOD:PUBLISH
X-WR-CALNAME:OpenUK
X-ORIGINAL-URL:https://openuk.uk
X-WR-CALDESC:Events for OpenUK
REFRESH-INTERVAL;VALUE=DURATION:PT1H
X-Robots-Tag:noindex
X-PUBLISHED-TTL:PT1H
BEGIN:VTIMEZONE
TZID:UTC
BEGIN:STANDARD
TZOFFSETFROM:+0000
TZOFFSETTO:+0000
TZNAME:UTC
DTSTART:20210101T000000
END:STANDARD
END:VTIMEZONE
BEGIN:VEVENT
DTSTART;VALUE=DATE:20221208
DTEND;VALUE=DATE:20230220
DTSTAMP:20260420T055443
CREATED:20221208T163323Z
LAST-MODIFIED:20221208T163323Z
UID:28651-1670457600-1676851199@openuk.uk
SUMMARY:Berlin Buzzwords Call for Papers
DESCRIPTION:You can submit your proposal and find more information on our Call for Papers at https://2023.berlinbuzzwords.de/call-for-papers/ \nThe CFP closes 19 Feb 2023 \nNext year’s Berlin Buzzwords will take place June 18-20\, 2023 at Kulturbrauerei Berlin. If you are not planning on speaking next year but still would like to attend the conference\, you can get your ticket at https://2023.berlinbuzzwords.de/tickets/. Our special offer Trust Us Tickets are available until the end of December! \nIf your company is interested in a sponsorship\, please contact Mareike at partner@berlinbuzzwords.de
URL:https://openuk.uk/event-calendar/berlin-buzzwords-call-for-papers/
CATEGORIES:Call for Papers
ATTACH;FMTTYPE=image/png:https://openuk.uk/wp-content/uploads/2022/12/Screen-Shot-2022-12-08-at-11.32.10-AM.png
END:VEVENT
BEGIN:VEVENT
DTSTART;VALUE=DATE:20230201
DTEND;VALUE=DATE:20230203
DTSTAMP:20260420T055443
CREATED:20221107T114505Z
LAST-MODIFIED:20221107T114505Z
UID:27940-1675209600-1675382399@openuk.uk
SUMMARY:Cloud Native Security Con North America 2023
DESCRIPTION:Seattle\, Washington
URL:https://openuk.uk/event-calendar/cloud-native-security-con-north-america-2023/
CATEGORIES:Events of Interest
ATTACH;FMTTYPE=image/png:https://openuk.uk/wp-content/uploads/2022/11/Screen-Shot-2022-11-07-at-6.44.48-AM.png
END:VEVENT
BEGIN:VEVENT
DTSTART;VALUE=DATE:20230204
DTEND;VALUE=DATE:20230206
DTSTAMP:20260420T055443
CREATED:20221107T112550Z
LAST-MODIFIED:20221107T112550Z
UID:27898-1675468800-1675641599@openuk.uk
SUMMARY:FOSDEM 2023
DESCRIPTION:FOSDEM is a free event for software developers to meet\, share ideas and collaborate.\nEvery year\, thousands of developers of free and open source software from all over the world gather at the event in Brussels. \n4 & 5 February 2023
URL:https://openuk.uk/event-calendar/fosdem-2023/
CATEGORIES:Events of Interest
ATTACH;FMTTYPE=image/png:https://openuk.uk/wp-content/uploads/2022/11/Screen-Shot-2022-11-07-at-6.25.28-AM.png
END:VEVENT
BEGIN:VEVENT
DTSTART;TZID=UTC:20230207T100000
DTEND;TZID=UTC:20230208T170000
DTSTAMP:20260420T055443
CREATED:20221205T125709Z
LAST-MODIFIED:20230105T144426Z
UID:28303-1675764000-1675875600@openuk.uk
SUMMARY:State of Open Con 23
DESCRIPTION:OpenUK will be hosting a 1000-person plus\, two-day conference in Central London\, “State of Open Con 23”  in association with IEEE\, the headline sponsor.  \nThis is planned to take place at the QEII Centre in Parliament Square and the area outside\, on the 7th and 8th February. \nWe will host plenary sessions on day one\, with all delegates spending the morning in one room\, the vision being to bring together the UN and International Governments and public sector on the same stage for the morning before delegates break for lunch and return to a half day on the 7th and a full day on the 8th with tracks: \n\nPlatform Engineering \nEntrepreneurship\nSecurity\nGovernment\, Law and Policy \nOpen Data \nOpen Hardware\nUnconference\n\nThe remainder of the building will be converted into a Comms Suite with press\, YouTubers\, etc etc and much of the space will be taken up by experiential content and a State of Open Photo Shoot of 50 Key figures in Open Source\, sponsored by Arm.  This has been taken by young photographer Tiana Lee and will also be hung other places in 2023.  \nCFP is now closed!\nThank you for the great response! Speakers will be informed from 4th January.
URL:https://openuk.uk/event-calendar/state-of-open-con-23/
LOCATION:Queen Elizabeth II Conference Centre\, Broad Sanctuary\, London\, SW1P 3EE\, United Kingdom
CATEGORIES:OpenUK Events
ATTACH;FMTTYPE=image/png:https://openuk.uk/wp-content/uploads/2022/11/Screen-Shot-2022-11-29-at-5.52.51-AM.png
ORGANIZER;CN="OpenUK":MAILTO:admin@openuk.uk
END:VEVENT
BEGIN:VEVENT
DTSTART;TZID=UTC:20230227T080000
DTEND;TZID=UTC:20230227T170000
DTSTAMP:20260420T055443
CREATED:20230227T092323Z
LAST-MODIFIED:20230227T092323Z
UID:31528-1677484800-1677517200@openuk.uk
SUMMARY:Open Services Cloud - An Eclipse Foundation Initiative - MWC Barcelona
DESCRIPTION:27 February 2023 \nEmail for remote access: michael.plagge@eclipse-foundation.org
URL:https://openuk.uk/event-calendar/open-services-cloud-an-eclipse-foundation-initiative-mwc-barcelona/
CATEGORIES:Events OpenUK will be at
ATTACH;FMTTYPE=image/jpeg:https://openuk.uk/wp-content/uploads/2023/02/Fp9bidSWIAQHjcW.jpg
END:VEVENT
END:VCALENDAR