BEGIN:VCALENDAR
VERSION:2.0
PRODID:-//OpenUK - ECPv6.15.20//NONSGML v1.0//EN
CALSCALE:GREGORIAN
METHOD:PUBLISH
X-ORIGINAL-URL:https://openuk.uk
X-WR-CALDESC:Events for OpenUK
REFRESH-INTERVAL;VALUE=DURATION:PT1H
X-Robots-Tag:noindex
X-PUBLISHED-TTL:PT1H
BEGIN:VTIMEZONE
TZID:UTC
BEGIN:STANDARD
TZOFFSETFROM:+0000
TZOFFSETTO:+0000
TZNAME:UTC
DTSTART:20220101T000000
END:STANDARD
END:VTIMEZONE
BEGIN:VEVENT
DTSTART;TZID=UTC:20230301T080000
DTEND;TZID=UTC:20230331T170000
DTSTAMP:20260420T040722
CREATED:20230301T135147Z
LAST-MODIFIED:20230301T135147Z
UID:31546-1677657600-1680282000@openuk.uk
SUMMARY:CFP - All Things Open 2023
DESCRIPTION:All Things Open’s call for papers is now open. \nSee this link for more details: https://www.allthingsopen.org/call-for-papers/
URL:https://openuk.uk/event-calendar/cfp-all-things-open-2023/
CATEGORIES:Call for Papers
ATTACH;FMTTYPE=image/png:https://openuk.uk/wp-content/uploads/2023/03/Screenshot-2023-03-01-at-13.51.19.png
END:VEVENT
BEGIN:VEVENT
DTSTART;TZID=UTC:20230308T080000
DTEND;TZID=UTC:20230308T090000
DTSTAMP:20260420T040722
CREATED:20230216T094748Z
LAST-MODIFIED:20230308T014107Z
UID:31333-1678262400-1678266000@openuk.uk
SUMMARY:OpenUK Town Hall Early Option
DESCRIPTION:Find out more about What’s On at OpenUK with Monthly Town Halls led by Amanda Brock and the OpenUK leadership team will take place throughout 2023 and you can find details of the next one – there is an early and late session – on 8th March in our events calendar. It’s a great way to hear more about the work OpenUK is doing\, our strategy and how to get more involved.\n\nAdd to Your Calendar and Join
URL:https://openuk.uk/event-calendar/openuk-town-hall-early-option/
LOCATION:Virtual
CATEGORIES:OpenUK Events
ATTACH;FMTTYPE=image/png:https://openuk.uk/wp-content/uploads/2021/09/Logo-1.png
END:VEVENT
BEGIN:VEVENT
DTSTART;TZID=UTC:20230308T170000
DTEND;TZID=UTC:20230308T180000
DTSTAMP:20260420T040722
CREATED:20230216T095036Z
LAST-MODIFIED:20230308T014345Z
UID:31345-1678294800-1678298400@openuk.uk
SUMMARY:OpenUK Town Hall Late Option
DESCRIPTION:Find out more about What’s On at OpenUK with Monthly Town Halls led by Amanda Brock and the OpenUK leadership team will take place throughout 2023 and you can find details of the next one – there is an early and late session – on 8th March in our events calendar. It’s a great way to hear more about the work OpenUK is doing\, our strategy and how to get more involved.\n\nAdd to Your Calendar and Join
URL:https://openuk.uk/event-calendar/openuk-town-hall-late-option/
LOCATION:Virtual
CATEGORIES:OpenUK Events
ATTACH;FMTTYPE=image/png:https://openuk.uk/wp-content/uploads/2021/09/Logo-1.png
END:VEVENT
BEGIN:VEVENT
DTSTART;VALUE=DATE:20230309
DTEND;VALUE=DATE:20230313
DTSTAMP:20260420T040722
CREATED:20221107T112837Z
LAST-MODIFIED:20221107T112837Z
UID:27907-1678320000-1678665599@openuk.uk
SUMMARY:SCALE 23
DESCRIPTION:Pasadena\, CA\nMarch 9-12\, 2023 \n 
URL:https://openuk.uk/event-calendar/scale-23/
CATEGORIES:Events of Interest
ATTACH;FMTTYPE=image/svg+xml:https://openuk.uk/wp-content/uploads/2022/11/scale_logo_lg.svg
END:VEVENT
BEGIN:VEVENT
DTSTART;VALUE=DATE:20230313
DTEND;VALUE=DATE:20230315
DTSTAMP:20260420T040722
CREATED:20230302T095049Z
LAST-MODIFIED:20230302T095112Z
UID:31561-1678665600-1678838399@openuk.uk
SUMMARY:FOSS Backstage
DESCRIPTION:March 13-14\, 2023 \nBerlin\, Germany
URL:https://openuk.uk/event-calendar/foss-backstage/
CATEGORIES:Events of Interest
ATTACH;FMTTYPE=image/png:https://openuk.uk/wp-content/uploads/2023/03/Screenshot-2023-03-02-at-09.50.19.png
END:VEVENT
BEGIN:VEVENT
DTSTART;VALUE=DATE:20230315
DTEND;VALUE=DATE:20230316
DTSTAMP:20260420T040722
CREATED:20230314T103433Z
LAST-MODIFIED:20230314T103433Z
UID:31861-1678838400-1678924799@openuk.uk
SUMMARY:WSIS Forum
DESCRIPTION:Amanda Brock will be speaking at a session at the WSIS Forum. \nHigh-Level Policy Session 11: Knowledge Societies\, Capacity Building and e-learning / ICT Applications and Services
URL:https://openuk.uk/event-calendar/wsis-forum/
CATEGORIES:Events OpenUK will be at
ATTACH;FMTTYPE=image/png:https://openuk.uk/wp-content/uploads/2023/03/Screenshot-2023-03-14-at-10.34.10.png
END:VEVENT
BEGIN:VEVENT
DTSTART;TZID=UTC:20230321T180000
DTEND;TZID=UTC:20230321T210000
DTSTAMP:20260420T040722
CREATED:20230309T100218Z
LAST-MODIFIED:20230309T100334Z
UID:31762-1679421600-1679432400@openuk.uk
SUMMARY:London Meet-Up March 21
DESCRIPTION:Join us for our first 2023 London Meet-Up on the 21st of March at 6pm \n30 Cannon Street\, EC4M 6XH \nSpeakers: Matt Barker\, Tom Meadows \nJoin Us
URL:https://openuk.uk/event-calendar/london-meet-up-march-21/
LOCATION:Avanade\, 30 Fenchurch St\, London\, City of London\, EC3M 3BD\, United Kingdom
CATEGORIES:Meetups,OpenUK Events
ATTACH;FMTTYPE=image/jpeg:https://openuk.uk/wp-content/uploads/2023/03/MEETUP-SOCIAL-CARDS.pptx1_.jpg
END:VEVENT
BEGIN:VEVENT
DTSTART;VALUE=DATE:20230323
DTEND;VALUE=DATE:20230324
DTSTAMP:20260420T040722
CREATED:20230209T100203Z
LAST-MODIFIED:20230209T100203Z
UID:31108-1679529600-1679615999@openuk.uk
SUMMARY:The Customer & Employee Experience Forum UK
DESCRIPTION:OpenUK CEO Amanda Brock will be giving the final keynote at this event. \n23 March 2023 \nNobu Hotel London Portman Square
URL:https://openuk.uk/event-calendar/the-customer-employee-experience-forum-uk/
LOCATION:Nobu Hotel London\, 22 Portman Square\, London\, W1H 7BG\, United Kingdom
CATEGORIES:Events OpenUK will be at
ATTACH;FMTTYPE=image/png:https://openuk.uk/wp-content/uploads/2023/02/Screen-Shot-2023-02-09-at-5.01.36-AM.png
END:VEVENT
BEGIN:VEVENT
DTSTART;TZID=UTC:20230330T180000
DTEND;TZID=UTC:20230330T210000
DTSTAMP:20260420T040722
CREATED:20230310T110848Z
LAST-MODIFIED:20230310T123253Z
UID:31831-1680199200-1680210000@openuk.uk
SUMMARY:eBPF for Cloud Native Security & Hacking Kubernetes
DESCRIPTION:DevSecCon London will be kicking off the New Year with their very first in-person event! We’ll be joined by Liz Rice\, Chief Open Source Officer with eBPF specialists Isovalent & OpenUK Board Member and Andrew Martin\, Founder and CEO of Control-plane\, CISO at OpenUK\, and co-chair of the CNCF’s Technical Advisory Group for Security. \nView Event Details
URL:https://openuk.uk/event-calendar/ebpf-for-cloud-native-security-hacking-kubernetes/
LOCATION:Snyk\, 97 Hackney Rd\, London\, E2 8ET\, United Kingdom
CATEGORIES:Events OpenUK will be at
ATTACH;FMTTYPE=image/png:https://openuk.uk/wp-content/uploads/2023/03/1678297696617.png
END:VEVENT
END:VCALENDAR