BEGIN:VCALENDAR
VERSION:2.0
PRODID:-//OpenUK - ECPv6.15.20//NONSGML v1.0//EN
CALSCALE:GREGORIAN
METHOD:PUBLISH
X-ORIGINAL-URL:https://openuk.uk
X-WR-CALDESC:Events for OpenUK
REFRESH-INTERVAL;VALUE=DURATION:PT1H
X-Robots-Tag:noindex
X-PUBLISHED-TTL:PT1H
BEGIN:VTIMEZONE
TZID:UTC
BEGIN:STANDARD
TZOFFSETFROM:+0000
TZOFFSETTO:+0000
TZNAME:UTC
DTSTART:20220101T000000
END:STANDARD
END:VTIMEZONE
BEGIN:VEVENT
DTSTART;VALUE=DATE:20231205
DTEND;VALUE=DATE:20231206
DTSTAMP:20260419T134628
CREATED:20231205T163903Z
LAST-MODIFIED:20231208T115018Z
UID:39271-1701734400-1701820799@openuk.uk
SUMMARY:GeoCom 2023\, London
DESCRIPTION:
URL:https://openuk.uk/event-calendar/geocom-2023-london/
CATEGORIES:Events OpenUK will be at
ATTACH;FMTTYPE=image/png:https://openuk.uk/wp-content/uploads/2023/12/GeoCom23.png
END:VEVENT
BEGIN:VEVENT
DTSTART;VALUE=DATE:20231206
DTEND;VALUE=DATE:20231208
DTSTAMP:20260419T134628
CREATED:20230302T095649Z
LAST-MODIFIED:20251022T142934Z
UID:31591-1701820800-1701993599@openuk.uk
SUMMARY:Open Source Experience 2023
DESCRIPTION:Dec 6-7\, 2023 \nParis\, France
URL:https://openuk.uk/event-calendar/open-source-experience-2023/
CATEGORIES:Events of Interest
ATTACH;FMTTYPE=image/png:https://openuk.uk/wp-content/uploads/2023/03/Screenshot-2023-03-02-at-09.56.22.png
END:VEVENT
BEGIN:VEVENT
DTSTART;VALUE=DATE:20231207
DTEND;VALUE=DATE:20231209
DTSTAMP:20260419T134628
CREATED:20230622T121806Z
LAST-MODIFIED:20231030T120448Z
UID:34052-1701907200-1702079999@openuk.uk
SUMMARY:Tech Rocks Summit
DESCRIPTION:Amanda Brock will be Keynote at Tech Rocks in Paris in October. This year\, the 7th edition of the Tech.Rocks Summit will take place on October 7 and 8\, 2023!
URL:https://openuk.uk/event-calendar/tech-rocks-summit-paris/
LOCATION:35 Rue Saint-Marc\, 75002 Paris\, France
CATEGORIES:Events OpenUK will be at
ATTACH;FMTTYPE=image/jpeg:https://openuk.uk/wp-content/uploads/2023/06/Amanda_BROCK.jpg
END:VEVENT
BEGIN:VEVENT
DTSTART;TZID=UTC:20231212T080000
DTEND;TZID=UTC:20231213T170000
DTSTAMP:20260419T134628
CREATED:20231113T133559Z
LAST-MODIFIED:20240530T134643Z
UID:38341-1702368000-1702486800@openuk.uk
SUMMARY:AI.dev | Open Source GenAI & ML Summit\, San Jose
DESCRIPTION:AI.dev is a nexus for developers delving into the intricate realm of open source generative AI and machine learning. At the heart of this event is the belief that open source is the engine of innovation in AI. By uniting the brightest developers from around the world\, we aim to ignite discussions\, foster collaborations\, and shape the trajectory of open source AI.
URL:https://openuk.uk/event-calendar/ai-dev-open-source-genai-ml-summit/
CATEGORIES:Events OpenUK will be at
ATTACH;FMTTYPE=image/jpeg:https://openuk.uk/wp-content/uploads/2023/11/AI.dev-summit.jpg
END:VEVENT
END:VCALENDAR